Workbook

Sheet ขาออก ตค..68
A1: ="ด่านศุลกากร"&[1]กรอกข้อมูล!B1 -> ด่านศุลกากรช่องเม็ก
A2: สินค้าส่งออกสูงสุด 10 อันดับ
A3: ="ปีงบประมาณ "&[1]กรอกข้อมูล!B2&" ("&[1]กรอกข้อมูล!C4&" "&[1]กรอกข้อมูล!D4&")" -> ปีงบประมาณ 2569 (ตุลาคม 2568)
A5: ลำดับที่ | B5: ชนิดสินค้า | C5: พิกัด | D5: น้ำหนัก (ตัน) | E5: มูลค่า (ล้านบาท)
A6: 1 | B6: น้ำมันเชื้อเพลิง (น้ำมันดีเชล,น้ำมันเบนซิน) | C6: =INDEX('[1]4หลัก-เดือน'!$A$2:$A$5001,MATCH($A6,'[1]4หลัก-เดือน'!$E$2:$E$5001,0)) -> 2710 | D6: =(INDEX('[1]4หลัก-เดือน'!$D$2:$D$5001,MATCH($A6,'[1]4หลัก-เดือน'!$E$2:$E$5001,0)))/1000 -> 18763.117 | E6: =(INDEX('[1]4หลัก-เดือน'!$B$2:$B$5001,MATCH($A6,'[1]4หลัก-เดือน'!$E$2:$E$5001,0)))/1000000 -> 438.77269
A7: 2 | B7: รถยนต์(รถกระบะ) | C7: =INDEX('[1]4หลัก-เดือน'!$A$2:$A$5001,MATCH($A7,'[1]4หลัก-เดือน'!$E$2:$E$5001,0)) -> 8704 | D7: =(INDEX('[1]4หลัก-เดือน'!$D$2:$D$5001,MATCH($A7,'[1]4หลัก-เดือน'!$E$2:$E$5001,0)))/1000 -> 518.415 | E7: =(INDEX('[1]4หลัก-เดือน'!$B$2:$B$5001,MATCH($A7,'[1]4หลัก-เดือน'!$E$2:$E$5001,0)))/1000000 -> 186.02298
A8: 3 | B8: นมกล่องและเครื่องดื่มอื่นๆ | C8: =INDEX('[1]4หลัก-เดือน'!$A$2:$A$5001,MATCH($A8,'[1]4หลัก-เดือน'!$E$2:$E$5001,0)) -> 2202 | D8: =(INDEX('[1]4หลัก-เดือน'!$D$2:$D$5001,MATCH($A8,'[1]4หลัก-เดือน'!$E$2:$E$5001,0)))/1000 -> 1661.1669 | E8: =(INDEX('[1]4หลัก-เดือน'!$B$2:$B$5001,MATCH($A8,'[1]4หลัก-เดือน'!$E$2:$E$5001,0)))/1000000 -> 62.17013
A9: 4 | B9: พลาสติก(บรรจุภัณฑ์และของใช้จากพลาสติก) | C9: =INDEX('[1]4หลัก-เดือน'!$A$2:$A$5001,MATCH($A9,'[1]4หลัก-เดือน'!$E$2:$E$5001,0)) -> 3923 | D9: =(INDEX('[1]4หลัก-เดือน'!$D$2:$D$5001,MATCH($A9,'[1]4หลัก-เดือน'!$E$2:$E$5001,0)))/1000 -> 1033.8569 | E9: =(INDEX('[1]4หลัก-เดือน'!$B$2:$B$5001,MATCH($A9,'[1]4หลัก-เดือน'!$E$2:$E$5001,0)))/1000000 -> 58.273141
A10: 5 | B10: ครีมเทียม | C10: =INDEX('[1]4หลัก-เดือน'!$A$2:$A$5001,MATCH($A10,'[1]4หลัก-เดือน'!$E$2:$E$5001,0)) -> 2106 | D10: =(INDEX('[1]4หลัก-เดือน'!$D$2:$D$5001,MATCH($A10,'[1]4หลัก-เดือน'!$E$2:$E$5001,0)))/1000 -> 871.2389 | E10: =(INDEX('[1]4หลัก-เดือน'!$B$2:$B$5001,MATCH($A10,'[1]4หลัก-เดือน'!$E$2:$E$5001,0)))/1000000 -> 56.513514
A11: 6 | B11: รถยนต์ | C11: =INDEX('[1]4หลัก-เดือน'!$A$2:$A$5001,MATCH($A11,'[1]4หลัก-เดือน'!$E$2:$E$5001,0)) -> 8703 | D11: =(INDEX('[1]4หลัก-เดือน'!$D$2:$D$5001,MATCH($A11,'[1]4หลัก-เดือน'!$E$2:$E$5001,0)))/1000 -> 81.605 | E11: =(INDEX('[1]4หลัก-เดือน'!$B$2:$B$5001,MATCH($A11,'[1]4หลัก-เดือน'!$E$2:$E$5001,0)))/1000000 -> 36.552612
A12: 7 | B12: แอมโมเนียมไนเทรด | C12: =INDEX('[1]4หลัก-เดือน'!$A$2:$A$5001,MATCH($A12,'[1]4หลัก-เดือน'!$E$2:$E$5001,0)) -> 3102 | D12: =(INDEX('[1]4หลัก-เดือน'!$D$2:$D$5001,MATCH($A12,'[1]4หลัก-เดือน'!$E$2:$E$5001,0)))/1000 -> 1569.13 | E12: =(INDEX('[1]4หลัก-เดือน'!$B$2:$B$5001,MATCH($A12,'[1]4หลัก-เดือน'!$E$2:$E$5001,0)))/1000000 -> 34.099711
A13: 8 | B13: ครีม โลชั่น | C13: =INDEX('[1]4หลัก-เดือน'!$A$2:$A$5001,MATCH($A13,'[1]4หลัก-เดือน'!$E$2:$E$5001,0)) -> 3304 | D13: =(INDEX('[1]4หลัก-เดือน'!$D$2:$D$5001,MATCH($A13,'[1]4หลัก-เดือน'!$E$2:$E$5001,0)))/1000 -> 346.95202 | E13: =(INDEX('[1]4หลัก-เดือน'!$B$2:$B$5001,MATCH($A13,'[1]4หลัก-เดือน'!$E$2:$E$5001,0)))/1000000 -> 32.842957
A14: 9 | B14: รถแทรกเตอร์ | C14: =INDEX('[1]4หลัก-เดือน'!$A$2:$A$5001,MATCH($A14,'[1]4หลัก-เดือน'!$E$2:$E$5001,0)) -> 8701 | D14: =(INDEX('[1]4หลัก-เดือน'!$D$2:$D$5001,MATCH($A14,'[1]4หลัก-เดือน'!$E$2:$E$5001,0)))/1000 -> 164.082 | E14: =(INDEX('[1]4หลัก-เดือน'!$B$2:$B$5001,MATCH($A14,'[1]4หลัก-เดือน'!$E$2:$E$5001,0)))/1000000 -> 32.203994
A15: 10 | B15: ซอสปรุงรส (ซอส,น้ำปลา) | C15: =INDEX('[1]4หลัก-เดือน'!$A$2:$A$5001,MATCH($A15,'[1]4หลัก-เดือน'!$E$2:$E$5001,0)) -> 2103 | D15: =(INDEX('[1]4หลัก-เดือน'!$D$2:$D$5001,MATCH($A15,'[1]4หลัก-เดือน'!$E$2:$E$5001,0)))/1000 -> 583.04368 | E15: =(INDEX('[1]4หลัก-เดือน'!$B$2:$B$5001,MATCH($A15,'[1]4หลัก-เดือน'!$E$2:$E$5001,0)))/1000000 -> 30.753466
B16: รวม | D16: =SUM(D6:D15) -> 25592.608 | E16: =SUM(E6:E15) -> 968.2052
B17: อื่น ๆ | D17: =+D18-D16 -> 18082.392 | E17: =+E18-E16 -> 902.9548
B18: รวมทั้งหมด | D18: =ROUND((SUM('[1]CISขาออก-เดือน'!E2:E5001)/1000),2) -> 43675 | E18: =ROUND((SUM('[1]CISขาออก-เดือน'!C2:C5001)/1000000),2) -> 1871.16
B20: จำนวนใบขนสินค้าขาออก | C20: 2277 | D20: ฉบับ

Sheet ออก1 ตค68- 31 ตค 68
A1: ="ด่านศุลกากร"&[1]กรอกข้อมูล!B1 -> ด่านศุลกากรช่องเม็ก
A2: สินค้าส่งออกสูงสุด 10 อันดับ
A3: ="ปีงบประมาณ "&[1]กรอกข้อมูล!B2&" วันที่ "&[1]กรอกข้อมูล!B3&" "&[1]กรอกข้อมูล!C3&" "&[1]กรอกข้อมูล!D3&" ถึง "&[1]กรอกข้อมูล!B4&" "&[1]กรอกข้อมูล!C4&" "&[1]กรอกข้อมูล!D4 -> ปีงบประมาณ 2569 วันที่ 1 ตุลาคม 2568 ถึง 31 ตุลาคม 2568
B4: ="ปีงบประมาณ "&[1]กรอกข้อมูล!B2&" วันที่ "&[1]กรอกข้อมูล!B3&" "&[1]กรอกข้อมูล!C3&" "&[1]กรอกข้อมูล!D3&" ถึง "&[1]กรอกข้อมูล!B4&" "&[1]กรอกข้อมูล!C4&" "&[1]กรอกข้อมูล!D4 -> ปีงบประมาณ 2569 วันที่ 1 ตุลาคม 2568 ถึง 31 ตุลาคม 2568
A5: ลำดับที่ | B5: ชนิดสินค้า | C5: พิกัด | D5: น้ำหนัก (ตัน) | E5: มูลค่า (ล้านบาท)
A6: 1 | B6: น้ำมันเชื้อเพลิง (น้ำมันดีเชล,น้ำมันเบนซิน) | C6: =INDEX('[1]4หลัก-เดือน'!$A$2:$A$5001,MATCH($A6,'[1]4หลัก-เดือน'!$E$2:$E$5001,0)) -> 2710 | D6: =(INDEX('[1]4หลัก-เดือน'!$D$2:$D$5001,MATCH($A6,'[1]4หลัก-เดือน'!$E$2:$E$5001,0)))/1000 -> 18763.117 | E6: =(INDEX('[1]4หลัก-เดือน'!$B$2:$B$5001,MATCH($A6,'[1]4หลัก-เดือน'!$E$2:$E$5001,0)))/1000000 -> 438.77269
A7: 2 | B7: รถยนต์(รถกระบะ) | C7: =INDEX('[1]4หลัก-เดือน'!$A$2:$A$5001,MATCH($A7,'[1]4หลัก-เดือน'!$E$2:$E$5001,0)) -> 8704 | D7: =(INDEX('[1]4หลัก-เดือน'!$D$2:$D$5001,MATCH($A7,'[1]4หลัก-เดือน'!$E$2:$E$5001,0)))/1000 -> 518.415 | E7: =(INDEX('[1]4หลัก-เดือน'!$B$2:$B$5001,MATCH($A7,'[1]4หลัก-เดือน'!$E$2:$E$5001,0)))/1000000 -> 186.02298
A8: 3 | B8: นมกล่องและเครื่องดื่มอื่นๆ | C8: =INDEX('[1]4หลัก-เดือน'!$A$2:$A$5001,MATCH($A8,'[1]4หลัก-เดือน'!$E$2:$E$5001,0)) -> 2202 | D8: =(INDEX('[1]4หลัก-เดือน'!$D$2:$D$5001,MATCH($A8,'[1]4หลัก-เดือน'!$E$2:$E$5001,0)))/1000 -> 1661.1669 | E8: =(INDEX('[1]4หลัก-เดือน'!$B$2:$B$5001,MATCH($A8,'[1]4หลัก-เดือน'!$E$2:$E$5001,0)))/1000000 -> 62.17013
A9: 4 | B9: พลาสติก(บรรจุภัณฑ์และของใช้จากพลาสติก) | C9: =INDEX('[1]4หลัก-เดือน'!$A$2:$A$5001,MATCH($A9,'[1]4หลัก-เดือน'!$E$2:$E$5001,0)) -> 3923 | D9: =(INDEX('[1]4หลัก-เดือน'!$D$2:$D$5001,MATCH($A9,'[1]4หลัก-เดือน'!$E$2:$E$5001,0)))/1000 -> 1033.8569 | E9: =(INDEX('[1]4หลัก-เดือน'!$B$2:$B$5001,MATCH($A9,'[1]4หลัก-เดือน'!$E$2:$E$5001,0)))/1000000 -> 58.273141
A10: 5 | B10: ครีมเทียม | C10: =INDEX('[1]4หลัก-เดือน'!$A$2:$A$5001,MATCH($A10,'[1]4หลัก-เดือน'!$E$2:$E$5001,0)) -> 2106 | D10: =(INDEX('[1]4หลัก-เดือน'!$D$2:$D$5001,MATCH($A10,'[1]4หลัก-เดือน'!$E$2:$E$5001,0)))/1000 -> 871.2389 | E10: =(INDEX('[1]4หลัก-เดือน'!$B$2:$B$5001,MATCH($A10,'[1]4หลัก-เดือน'!$E$2:$E$5001,0)))/1000000 -> 56.513514
A11: 6 | B11: รถยนต์ | C11: =INDEX('[1]4หลัก-เดือน'!$A$2:$A$5001,MATCH($A11,'[1]4หลัก-เดือน'!$E$2:$E$5001,0)) -> 8703 | D11: =(INDEX('[1]4หลัก-เดือน'!$D$2:$D$5001,MATCH($A11,'[1]4หลัก-เดือน'!$E$2:$E$5001,0)))/1000 -> 81.605 | E11: =(INDEX('[1]4หลัก-เดือน'!$B$2:$B$5001,MATCH($A11,'[1]4หลัก-เดือน'!$E$2:$E$5001,0)))/1000000 -> 36.552612
A12: 7 | B12: แอมโมเนียมไนเทรด | C12: =INDEX('[1]4หลัก-เดือน'!$A$2:$A$5001,MATCH($A12,'[1]4หลัก-เดือน'!$E$2:$E$5001,0)) -> 3102 | D12: =(INDEX('[1]4หลัก-เดือน'!$D$2:$D$5001,MATCH($A12,'[1]4หลัก-เดือน'!$E$2:$E$5001,0)))/1000 -> 1569.13 | E12: =(INDEX('[1]4หลัก-เดือน'!$B$2:$B$5001,MATCH($A12,'[1]4หลัก-เดือน'!$E$2:$E$5001,0)))/1000000 -> 34.099711
A13: 8 | B13: ครีม โลชั่น | C13: =INDEX('[1]4หลัก-เดือน'!$A$2:$A$5001,MATCH($A13,'[1]4หลัก-เดือน'!$E$2:$E$5001,0)) -> 3304 | D13: =(INDEX('[1]4หลัก-เดือน'!$D$2:$D$5001,MATCH($A13,'[1]4หลัก-เดือน'!$E$2:$E$5001,0)))/1000 -> 346.95202 | E13: =(INDEX('[1]4หลัก-เดือน'!$B$2:$B$5001,MATCH($A13,'[1]4หลัก-เดือน'!$E$2:$E$5001,0)))/1000000 -> 32.842957
A14: 9 | B14: รถแทรกเตอร์ | C14: =INDEX('[1]4หลัก-เดือน'!$A$2:$A$5001,MATCH($A14,'[1]4หลัก-เดือน'!$E$2:$E$5001,0)) -> 8701 | D14: =(INDEX('[1]4หลัก-เดือน'!$D$2:$D$5001,MATCH($A14,'[1]4หลัก-เดือน'!$E$2:$E$5001,0)))/1000 -> 164.082 | E14: =(INDEX('[1]4หลัก-เดือน'!$B$2:$B$5001,MATCH($A14,'[1]4หลัก-เดือน'!$E$2:$E$5001,0)))/1000000 -> 32.203994
A15: 10 | B15: ซอสปรุงรส (ซอส,น้ำปลา) | C15: =INDEX('[1]4หลัก-เดือน'!$A$2:$A$5001,MATCH($A15,'[1]4หลัก-เดือน'!$E$2:$E$5001,0)) -> 2103 | D15: =(INDEX('[1]4หลัก-เดือน'!$D$2:$D$5001,MATCH($A15,'[1]4หลัก-เดือน'!$E$2:$E$5001,0)))/1000 -> 583.04368 | E15: =(INDEX('[1]4หลัก-เดือน'!$B$2:$B$5001,MATCH($A15,'[1]4หลัก-เดือน'!$E$2:$E$5001,0)))/1000000 -> 30.753466
B16: รวม | D16: =SUM(D6:D15) -> 25592.608 | E16: =SUM(E6:E15) -> 968.2052
B17: อื่น ๆ | D17: =+D18-D16 -> 18082.392 | E17: =+E18-E16 -> 902.9548
B18: รวมทั้งหมด | D18: =ROUND((SUM('[1]CISขาออก-เดือน'!E2:E5001)/1000),2) -> 43675 | E18: =ROUND((SUM('[1]CISขาออก-เดือน'!C2:C5001)/1000000),2) -> 1871.16
B20: จำนวนใบขนสินค้าขาออก | C20: 2277 | D20: ฉบับ

Sheet ขาเข้า ตค 68
A1: มูลค่าสินค้านำเข้าสูงสุด 10 อันดับ
A2: ประจำปีงบประมาณ 2569 (ตุลาคม 2568)
A3: ด่านศุลกากรช่องเม็ก
A4: ลำดับ | B4: พิกัด | C4: ชนิดสินค้า | D4: น้ำหนัก (กิโลกรัม) | E4: มูลค่าการนำเข้า (บาท) | F4: ภาษีมูลค่าเพิ่ม (บาท)
A5: 1 | B5: 27160000 | C5: พลังงานไฟฟ้า | D5: 3 | E5: 7.4603426e+08 | F5: 52222398
A6: 2 | B6: 9011120 | C6: เมล็ดกาแฟดิบอะราบิก้า | D6: 397020 | E6: 51091717 | F6: 0
A7: 3 | B7: 76169990 | C7: ฐานรองมอเตอร์ทำด้วยอะลูมิเนียม | D7: 169072 | E7: 45128532 | F7: 0
A8: 4 | B8: 7141011 | C8: มันสำปะหลัง (มันเส้น) | D8: 6864000 | E8: 36547163 | F8: 0
A9: 5 | B9: 7142090 | C9: มันเทศ | D9: 1549200 | E9: 23102702 | F9: 0
A10: 6 | B10: 85443014 | C10: ชุดสายไฟ | D10: 6266.4 | E10: 17097733 | F10: 363321.5
A11: 7 | B11: 87042123 | C11: รถบรรทุกวัตถุอันตราย (แอมโมเนียเหลว)* | D11: 14900 | E11: 13622969 | F11: 0
A12: 8 | B12: 7049010 | C12: กะหล่ำปลี | D12: 900400 | E12: 13423628 | F12: 0
A13: 9 | B13: 21011291 | C13: กาแฟอาราบิกาปรุงสำเร็จชนิดผง | D13: 92160 | E13: 12456094 | F13: 936680.5
A14: 10 | B14: 84295200 | C14: รถขุดดิน* | D14: 63600 | E14: 9958878.5 | F14: 0
A15: รวม 10 อันดับ | D15: =SUM(D5:D14) -> 10056621 | E15: =SUM(E5:E14) -> 9.6846368e+08 | F15: =SUM(F5:F14) -> 53522400
A16: อื่น ๆ | D16: =D17-D15 -> 7400907.2 | E16: =E17-E15 -> 87422032 | F16: =F17-F15 -> 1699151.6
A17: รวมทั้งสิ้น | D17: 17457529 | E17: 1.0558857e+09 | F17: 55221552
A18: ข้อมูลตามวันที่ตรวจปล่อย ณ วันที่ 4 พฤศจิกายน 2568
A19: * หมายถึง ใบขนสินค้าขาเข้าใช้สิทธิประโยชน์สุทธินำกลับ

Sheet 1-31 ตค.68
A1: มูลค่าสินค้านำเข้าสูงสุด 10 อันดับ
A2: ประจำปีงบประมาณ 2569 (ตุลาคม 2568)
A3: ด่านศุลกากรช่องเม็ก
A4: ลำดับ | B4: พิกัด | C4: ชนิดสินค้า | D4: น้ำหนัก (กิโลกรัม) | E4: มูลค่าการนำเข้า (บาท) | F4: ภาษีมูลค่าเพิ่ม (บาท)
A5: 1 | B5: 27160000 | C5: พลังงานไฟฟ้า | D5: 3 | E5: 7.4603426e+08 | F5: 52222398
A6: 2 | B6: 9011120 | C6: เมล็ดกาแฟดิบอะราบิก้า | D6: 397020 | E6: 51091717 | F6: 0
A7: 3 | B7: 76169990 | C7: ฐานรองมอเตอร์ทำด้วยอะลูมิเนียม | D7: 169072 | E7: 45128532 | F7: 0
A8: 4 | B8: 7141011 | C8: มันสำปะหลัง (มันเส้น) | D8: 6864000 | E8: 36547163 | F8: 0
A9: 5 | B9: 7142090 | C9: มันเทศ | D9: 1549200 | E9: 23102702 | F9: 0
A10: 6 | B10: 85443014 | C10: ชุดสายไฟ | D10: 6266.4 | E10: 17097733 | F10: 363321.5
A11: 7 | B11: 87042123 | C11: รถบรรทุกวัตถุอันตราย (แอมโมเนียเหลว)* | D11: 14900 | E11: 13622969 | F11: 0
A12: 8 | B12: 7049010 | C12: กะหล่ำปลี | D12: 900400 | E12: 13423628 | F12: 0
A13: 9 | B13: 21011291 | C13: กาแฟอาราบิกาปรุงสำเร็จชนิดผง | D13: 92160 | E13: 12456094 | F13: 936680.5
A14: 10 | B14: 84295200 | C14: รถขุดดิน* | D14: 63600 | E14: 9958878.5 | F14: 0
A15: รวม 10 อันดับ | D15: =SUM(D5:D14) -> 10056621 | E15: =SUM(E5:E14) -> 9.6846368e+08 | F15: =SUM(F5:F14) -> 53522400
A16: อื่น ๆ | D16: =D17-D15 -> 7400907.2 | E16: =E17-E15 -> 87422032 | F16: =F17-F15 -> 1699151.6
A17: รวมทั้งสิ้น | D17: 17457529 | E17: 1.0558857e+09 | F17: 55221552
A18: ข้อมูลตามวันที่ตรวจปล่อย ณ วันที่ 4 พฤศจิกายน 2568
A19: * หมายถึง ใบขนสินค้าขาเข้าใช้สิทธิประโยชน์สุทธินำกลับ

Sheet ผด. 68
A1: ด่านศุลกากรช่องเม็ก
A2: มูลค่าสินค้าผ่านแดนสูงสุด 10 อันดับ
A3: ปีงบประมาณ พ.ศ. 2569 เดือนตุลาคม 2568
B4: ผ่านแดนเข้า | G4: ผ่านแดนออก
A5: ลำดับ | B5: มูลค่าสินค้าผ่านแดน จาก สปป.ลาว ไปประเทศที่สาม | F5: ลำดับ | G5: มูลค่าสินค้าผ่านแดน จาก ประเทศที่สามไป สปป.ลาว
A6: ที่ | B6: ชนิดสินค้า | C6: พิกัด | D6: น้ำหนัก (ตัน) | E6: มูลค่า (บาท) | F6: ที่ | G6: ชนิดสินค้า | H6: พิกัด | I6: น้ำหนัก (ตัน) | J6: มูลค่า (บาท)
A7: 1 | B7: เมล็ดกาแฟดิบ | C7: 0901 | D7: 331.02 | E7: 1.8678188e+08 | F7: 1 | G7: รถแทรกเตอร์และอุปกรณ์ | H7: 8701 | I7: 52.08 | J7: 56948943
A8: 2 | B8: ชุดฟันดาบญี่ปุ่น | C8: 6211 | D8: 0 | E8: 3229935.5 | F8: 2 | G8: รถยนต์ใหม่ | H8: 8702, 8703 | I8: 57.76 | J8: 39281556
A9: 3 | B9: สมุนไพร | C9: 9061 | D9: 0 | E9: 2290417.6 | F9: 3 | G9: ส่วนประกอบต่างๆ ของเครื่องจักร | H9: 8422 | I9: 25.654 | J9: 36775256
A10: 4 | B10: กาแฟสำเร็จรูป ซิกเนเจอร์ 100 % | C10: 2101 | D10: 5.13 | E10: 1967524.5 | F10: 4 | G10: เครื่องยนต์ดีเซล | H10: 8408 | I10: 79.984 | J10: 36135523
A11: 5 | B11: แป้งมันสำปะหลัง | C11: 1108 | D11: 95 | E11: 1397473.6 | F11: 5 | G11: กังหันและส่วนประกอบต่างๆ | H11: 8410 | I11: 31.87 | J11: 32145906
A12: 6 | B12: ยาเส้น | C12: 2401 | D12: 1.04555 | E12: 1141952.1 | F12: 6 | G12: ส่วนประกอบต่างๆของเครื่องจักร | H12: 8503 | I12: 37.793 | J12: 20438276
F13: 7 | G13: สายเคเบิลต่างๆ | H13: 8544 | I13: 68.52 | J13: 17964864
F14: 8 | G14: อุปกรณ์สำหรับงานระบบบำบัดน้ำและส่วนประกอบอื่นๆ | H14: 8413 | I14: 5.234 | J14: 15491638
F15: 9 | G15: ถังเก็บน้ำและส่วนประกอบอื่นๆ | H15: 7309 | I15: 18.575 | J15: 13511618
F16: 10 | G16: อุปกรณ์สำหรับงานระบบบำบัดน้ำและส่วนประกอบอื่นๆ | H16: 7304 | I16: 9.25 | J16: 12175609
A17: รวมสินค้าผ่านแดนขาเข้า 10 อันดับ | D17: =SUM(D7:D16) -> 432.19555 | E17: =SUM(E7:E16) -> 1.9680919e+08 | F17: รวมสินค้าผ่านแดนขาออก 10 อันดับ | I17: =SUM(I7:I16) -> 386.72 | J17: =SUM(J7:J16) -> 2.8086919e+08
A18: อื่นๆ | D18: - | E18: - | F18: อื่นๆ | I18: 1874.3319 | J18: 86173408
A19: รวมทั้งสิ้น | D19: =D17 -> 432.19555 | E19: =E17 -> 1.9680919e+08 | F19: รวมทั้งสิ้น | I19: =SUM(I17:I18) -> 2261.0519 | J19: =SUM(J17:J18) -> 3.670426e+08
A20: จำนวนใบขนผ่านแดนเข้า 15 ฉบับ จำนวนรถบรรทุก 29 คัน | F20: จำนวนใบขนผ่านแดนออก 115 ฉบับ จำนวนรถบรรทุก 171 คัน
A22: รวมสินค้าผ่านแดนขาเข้า 10 อันดับ | D22: 4511.9899 | E22: 9.0159608e+08 | F22: รวมสินค้าผ่านแดนขาออก 10 อันดับ | I22: 8156.0475 | J22: 1.3208161e+09
A23: อื่นๆ | D23: 497.7122 | E23: 17838582 | F23: อื่นๆ | I23: 18028.145 | J23: 1.1457343e+09
A24: รวมทั้งสิ้น | D24: 5009.7021 | E24: 9.1943466e+08 | F24: รวมทั้งสิ้น | I24: 26184.193 | J24: 2.4665505e+09
D26: =D19+D24 -> 5441.8977 | E26: =E19+E24 -> 1.1162438e+09 | I26: =I24+I19 -> 28445.244 | J26: =J24+J19 -> 2.8335931e+09
A30: ด่านศุลกากรช่องเม็ก
A31: มูลค่าสินค้าผ่านแดนสูงสุด 10 อันดับ
A32: ปีงบประมาณ พ.ศ. 2569 เดือนตุลาคม 2568
B33: ผ่านแดนเข้า | G33: ผ่านแดนออก
A34: ลำดับ | B34: มูลค่าสินค้าผ่านแดน จาก สปป.ลาว ไปประเทศที่สาม | F34: ลำดับ | G34: มูลค่าสินค้าผ่านแดน จาก ประเทศที่สามไป สปป.ลาว
A35: ที่ | B35: ชนิดสินค้า | C35: พิกัด | D35: น้ำหนัก (ตัน) | E35: มูลค่า (บาท) | F35: ที่ | G35: ชนิดสินค้า | H35: พิกัด | I35: น้ำหนัก (ตัน) | J35: มูลค่า (บาท)
A36: 1 | B36: เมล็ดกาแฟดิบ | C36: 0901 | D36: 331.02 | E36: 1.8678188e+08 | F36: 1 | G36: รถแทรกเตอร์และอุปกรณ์ | H36: 8701 | I36: 52.08 | J36: 56948943
A37: 2 | B37: ชุดฟันดาบญี่ปุ่น | C37: 6211 | D37: 0 | E37: 3229935.5 | F37: 2 | G37: รถยนต์ใหม่ | H37: 8702, 8703 | I37: 57.76 | J37: 39281556
A38: 3 | B38: สมุนไพร | C38: 9061 | D38: 0 | E38: 2290417.6 | F38: 3 | G38: ส่วนประกอบต่างๆ ของเครื่องจักร | H38: 8422 | I38: 25.654 | J38: 36775256
A39: 4 | B39: กาแฟสำเร็จรูป ซิกเนเจอร์ 100 % | C39: 2101 | D39: 5.13 | E39: 1967524.5 | F39: 4 | G39: เครื่องยนต์ดีเซล | H39: 8408 | I39: 79.984 | J39: 36135523
A40: 5 | B40: แป้งมันสำปะหลัง | C40: 1108 | D40: 95 | E40: 1397473.6 | F40: 5 | G40: กังหันและส่วนประกอบต่างๆ | H40: 8410 | I40: 31.87 | J40: 32145906
A41: 6 | B41: ยาเส้น | C41: 2401 | D41: 1.04555 | E41: 1141952.1 | F41: 6 | G41: ส่วนประกอบต่างๆของเครื่องจักร | H41: 8503 | I41: 37.793 | J41: 20438276
F42: 7 | G42: สายเคเบิลต่างๆ | H42: 8544 | I42: 68.52 | J42: 17964864
F43: 8 | G43: อุปกรณ์สำหรับงานระบบบำบัดน้ำและส่วนประกอบอื่นๆ | H43: 8413 | I43: 5.234 | J43: 15491638
F44: 9 | G44: ถังเก็บน้ำและส่วนประกอบอื่นๆ | H44: 7309 | I44: 18.575 | J44: 13511618
F45: 10 | G45: อุปกรณ์สำหรับงานระบบบำบัดน้ำและส่วนประกอบอื่นๆ | H45: 7304 | I45: 9.25 | J45: 12175609
...
