Workbook

Sheet กย. 68
A1: ="ด่านศุลกากร"&[1]กรอกข้อมูล!B1 -> ด่านศุลกากรช่องเม็ก
A2: สินค้าส่งออกสูงสุด 10 อันดับ
A3: ="ปีงบประมาณ "&[1]กรอกข้อมูล!B2&" ("&[1]กรอกข้อมูล!C4&" "&[1]กรอกข้อมูล!D4&")" -> ปีงบประมาณ 2568 (กันยายน 2568)
A5: ลำดับที่ | B5: ชนิดสินค้า | C5: พิกัด | D5: น้ำหนัก (ตัน) | E5: มูลค่า (ล้านบาท)
A6: 1 | B6: น้ำมันเชื้อเพลิง (น้ำมันดีเชล,น้ำมันเบนซิน) | C6: =INDEX('[1]4หลัก-เดือน'!$A$2:$A$5001,MATCH($A6,'[1]4หลัก-เดือน'!$E$2:$E$5001,0)) -> 2710 | D6: =(INDEX('[1]4หลัก-เดือน'!$D$2:$D$5001,MATCH($A6,'[1]4หลัก-เดือน'!$E$2:$E$5001,0)))/1000 -> 14841.563 | E6: =(INDEX('[1]4หลัก-เดือน'!$B$2:$B$5001,MATCH($A6,'[1]4หลัก-เดือน'!$E$2:$E$5001,0)))/1000000 -> 351.12021
A7: 2 | B7: รถยนต์(รถกระบะ) | C7: =INDEX('[1]4หลัก-เดือน'!$A$2:$A$5001,MATCH($A7,'[1]4หลัก-เดือน'!$E$2:$E$5001,0)) -> 8704 | D7: =(INDEX('[1]4หลัก-เดือน'!$D$2:$D$5001,MATCH($A7,'[1]4หลัก-เดือน'!$E$2:$E$5001,0)))/1000 -> 260.275 | E7: =(INDEX('[1]4หลัก-เดือน'!$B$2:$B$5001,MATCH($A7,'[1]4หลัก-เดือน'!$E$2:$E$5001,0)))/1000000 -> 89.008327
A8: 3 | B8: ไส้กรอก,เบคอน | C8: =INDEX('[1]4หลัก-เดือน'!$A$2:$A$5001,MATCH($A8,'[1]4หลัก-เดือน'!$E$2:$E$5001,0)) -> 1601 | D8: =(INDEX('[1]4หลัก-เดือน'!$D$2:$D$5001,MATCH($A8,'[1]4หลัก-เดือน'!$E$2:$E$5001,0)))/1000 -> 1068.365 | E8: =(INDEX('[1]4หลัก-เดือน'!$B$2:$B$5001,MATCH($A8,'[1]4หลัก-เดือน'!$E$2:$E$5001,0)))/1000000 -> 64.024967
A9: 4 | B9: พลาสติก(บรรจุภัณฑ์และของใช้จากพลาสติก) | C9: =INDEX('[1]4หลัก-เดือน'!$A$2:$A$5001,MATCH($A9,'[1]4หลัก-เดือน'!$E$2:$E$5001,0)) -> 3923 | D9: =(INDEX('[1]4หลัก-เดือน'!$D$2:$D$5001,MATCH($A9,'[1]4หลัก-เดือน'!$E$2:$E$5001,0)))/1000 -> 990.92749 | E9: =(INDEX('[1]4หลัก-เดือน'!$B$2:$B$5001,MATCH($A9,'[1]4หลัก-เดือน'!$E$2:$E$5001,0)))/1000000 -> 56.983437
A10: 5 | B10: อาหารปรุงแต่งจากเนื้อสัตว์ ปลาเช่น ลูกชิ้น,ปูอัด | C10: =INDEX('[1]4หลัก-เดือน'!$A$2:$A$5001,MATCH($A10,'[1]4หลัก-เดือน'!$E$2:$E$5001,0)) -> 1604 | D10: =(INDEX('[1]4หลัก-เดือน'!$D$2:$D$5001,MATCH($A10,'[1]4หลัก-เดือน'!$E$2:$E$5001,0)))/1000 -> 534.82506 | E10: =(INDEX('[1]4หลัก-เดือน'!$B$2:$B$5001,MATCH($A10,'[1]4หลัก-เดือน'!$E$2:$E$5001,0)))/1000000 -> 55.997012
A11: 6 | B11: นมกล่องและเครื่องดื่มอื่นๆ | C11: =INDEX('[1]4หลัก-เดือน'!$A$2:$A$5001,MATCH($A11,'[1]4หลัก-เดือน'!$E$2:$E$5001,0)) -> 2202 | D11: =(INDEX('[1]4หลัก-เดือน'!$D$2:$D$5001,MATCH($A11,'[1]4หลัก-เดือน'!$E$2:$E$5001,0)))/1000 -> 1602.5936 | E11: =(INDEX('[1]4หลัก-เดือน'!$B$2:$B$5001,MATCH($A11,'[1]4หลัก-เดือน'!$E$2:$E$5001,0)))/1000000 -> 55.037695
A12: 7 | B12: ครีมเทียม | C12: =INDEX('[1]4หลัก-เดือน'!$A$2:$A$5001,MATCH($A12,'[1]4หลัก-เดือน'!$E$2:$E$5001,0)) -> 2106 | D12: =(INDEX('[1]4หลัก-เดือน'!$D$2:$D$5001,MATCH($A12,'[1]4หลัก-เดือน'!$E$2:$E$5001,0)))/1000 -> 838.69052 | E12: =(INDEX('[1]4หลัก-เดือน'!$B$2:$B$5001,MATCH($A12,'[1]4หลัก-เดือน'!$E$2:$E$5001,0)))/1000000 -> 50.772185
A13: 8 | B13: ซอสปรุงรส (ซอส,น้ำปลา) | C13: =INDEX('[1]4หลัก-เดือน'!$A$2:$A$5001,MATCH($A13,'[1]4หลัก-เดือน'!$E$2:$E$5001,0)) -> 2103 | D13: =(INDEX('[1]4หลัก-เดือน'!$D$2:$D$5001,MATCH($A13,'[1]4หลัก-เดือน'!$E$2:$E$5001,0)))/1000 -> 623.2678 | E13: =(INDEX('[1]4หลัก-เดือน'!$B$2:$B$5001,MATCH($A13,'[1]4หลัก-เดือน'!$E$2:$E$5001,0)))/1000000 -> 39.837698
A14: 9 | B14: ชาเขียวผงปรุงแต่งสำเร็จรูป | C14: =INDEX('[1]4หลัก-เดือน'!$A$2:$A$5001,MATCH($A14,'[1]4หลัก-เดือน'!$E$2:$E$5001,0)) -> 2101 | D14: =(INDEX('[1]4หลัก-เดือน'!$D$2:$D$5001,MATCH($A14,'[1]4หลัก-เดือน'!$E$2:$E$5001,0)))/1000 -> 249.09197 | E14: =(INDEX('[1]4หลัก-เดือน'!$B$2:$B$5001,MATCH($A14,'[1]4หลัก-เดือน'!$E$2:$E$5001,0)))/1000000 -> 39.817544
A15: 10 | B15: ครีม,โลชั่น | C15: =INDEX('[1]4หลัก-เดือน'!$A$2:$A$5001,MATCH($A15,'[1]4หลัก-เดือน'!$E$2:$E$5001,0)) -> 3304 | D15: =(INDEX('[1]4หลัก-เดือน'!$D$2:$D$5001,MATCH($A15,'[1]4หลัก-เดือน'!$E$2:$E$5001,0)))/1000 -> 374.56215 | E15: =(INDEX('[1]4หลัก-เดือน'!$B$2:$B$5001,MATCH($A15,'[1]4หลัก-เดือน'!$E$2:$E$5001,0)))/1000000 -> 34.707281
B16: รวม | D16: =SUM(D6:D15) -> 21384.161 | E16: =SUM(E6:E15) -> 837.30635
B17: อื่น ๆ | D17: =+D18-D16 -> 22959.909 | E17: =+E18-E16 -> 942.07365
B18: รวมทั้งหมด | D18: =ROUND((SUM('[1]CISขาออก-เดือน'!E2:E5001)/1000),2) -> 44344.07 | E18: =ROUND((SUM('[1]CISขาออก-เดือน'!C2:C5001)/1000000),2) -> 1779.38
B20: จำนวนใบขนสินค้าขาออก | C20: 2191 | D20: ฉบับ

Sheet ออก ตค- กย. 68
A1: ="ด่านศุลกากร"&[1]กรอกข้อมูล!B1 -> ด่านศุลกากรช่องเม็ก
A2: สินค้าส่งออกสูงสุด 10 อันดับ
A3: ="ปีงบประมาณ "&[1]กรอกข้อมูล!B2&" วันที่ "&[1]กรอกข้อมูล!B3&" "&[1]กรอกข้อมูล!C3&" "&[1]กรอกข้อมูล!D3&" ถึง "&[1]กรอกข้อมูล!B4&" "&[1]กรอกข้อมูล!C4&" "&[1]กรอกข้อมูล!D4 -> ปีงบประมาณ 2568 วันที่ 1 ตุลาคม 2567 ถึง 30 กันยายน 2568
B4: ="ปีงบประมาณ "&[1]กรอกข้อมูล!B2&" วันที่ "&[1]กรอกข้อมูล!B3&" "&[1]กรอกข้อมูล!C3&" "&[1]กรอกข้อมูล!D3&" ถึง "&[1]กรอกข้อมูล!B4&" "&[1]กรอกข้อมูล!C4&" "&[1]กรอกข้อมูล!D4 -> ปีงบประมาณ 2568 วันที่ 1 ตุลาคม 2567 ถึง 30 กันยายน 2568
A5: ลำดับที่ | B5: ชนิดสินค้า | C5: พิกัด | D5: น้ำหนัก (ตัน) | E5: มูลค่า (ล้านบาท)
A6: 1 | B6: น้ำมันเชื้อเพลิง (น้ำมันดีเชล,น้ำมันเบนซิน) | C6: =INDEX('[1]4หลัก-ปีงบ'!$A$2:$A$5001,MATCH($A6,'[1]4หลัก-ปีงบ'!$E$2:$E$5001,0)) -> 2710 | D6: =(INDEX('[1]4หลัก-ปีงบ'!$D$2:$D$5001,MATCH($A6,'[1]4หลัก-ปีงบ'!$E$2:$E$5001,0)))/1000 -> 221675.67 | E6: =(INDEX('[1]4หลัก-ปีงบ'!$B$2:$B$5001,MATCH($A6,'[1]4หลัก-ปีงบ'!$E$2:$E$5001,0)))/1000000 -> 5863.226
A7: 2 | B7: พลาสติก(บรรจุภัณฑ์และของใช้จากพลาสติก) | C7: =INDEX('[1]4หลัก-ปีงบ'!$A$2:$A$5001,MATCH($A7,'[1]4หลัก-ปีงบ'!$E$2:$E$5001,0)) -> 3923 | D7: =(INDEX('[1]4หลัก-ปีงบ'!$D$2:$D$5001,MATCH($A7,'[1]4หลัก-ปีงบ'!$E$2:$E$5001,0)))/1000 -> 13116.287 | E7: =(INDEX('[1]4หลัก-ปีงบ'!$B$2:$B$5001,MATCH($A7,'[1]4หลัก-ปีงบ'!$E$2:$E$5001,0)))/1000000 -> 842.61348
A8: 3 | B8: นมกล่องและเครื่องดื่มอื่นๆ | C8: =INDEX('[1]4หลัก-ปีงบ'!$A$2:$A$5001,MATCH($A8,'[1]4หลัก-ปีงบ'!$E$2:$E$5001,0)) -> 2202 | D8: =(INDEX('[1]4หลัก-ปีงบ'!$D$2:$D$5001,MATCH($A8,'[1]4หลัก-ปีงบ'!$E$2:$E$5001,0)))/1000 -> 21904.426 | E8: =(INDEX('[1]4หลัก-ปีงบ'!$B$2:$B$5001,MATCH($A8,'[1]4หลัก-ปีงบ'!$E$2:$E$5001,0)))/1000000 -> 752.39172
A9: 4 | B9: รถยนต์ | C9: =INDEX('[1]4หลัก-ปีงบ'!$A$2:$A$5001,MATCH($A9,'[1]4หลัก-ปีงบ'!$E$2:$E$5001,0)) -> 8703 | D9: =(INDEX('[1]4หลัก-ปีงบ'!$D$2:$D$5001,MATCH($A9,'[1]4หลัก-ปีงบ'!$E$2:$E$5001,0)))/1000 -> 1829.2523 | E9: =(INDEX('[1]4หลัก-ปีงบ'!$B$2:$B$5001,MATCH($A9,'[1]4หลัก-ปีงบ'!$E$2:$E$5001,0)))/1000000 -> 741.54459
A10: 5 | B10: รถไถนา | C10: =INDEX('[1]4หลัก-ปีงบ'!$A$2:$A$5001,MATCH($A10,'[1]4หลัก-ปีงบ'!$E$2:$E$5001,0)) -> 8701 | D10: =(INDEX('[1]4หลัก-ปีงบ'!$D$2:$D$5001,MATCH($A10,'[1]4หลัก-ปีงบ'!$E$2:$E$5001,0)))/1000 -> 2833.3264 | E10: =(INDEX('[1]4หลัก-ปีงบ'!$B$2:$B$5001,MATCH($A10,'[1]4หลัก-ปีงบ'!$E$2:$E$5001,0)))/1000000 -> 602.82586
A11: 6 | B11: ครีมเทียม,น้ำหวาน | C11: =INDEX('[1]4หลัก-ปีงบ'!$A$2:$A$5001,MATCH($A11,'[1]4หลัก-ปีงบ'!$E$2:$E$5001,0)) -> 2106 | D11: =(INDEX('[1]4หลัก-ปีงบ'!$D$2:$D$5001,MATCH($A11,'[1]4หลัก-ปีงบ'!$E$2:$E$5001,0)))/1000 -> 7524.8462 | E11: =(INDEX('[1]4หลัก-ปีงบ'!$B$2:$B$5001,MATCH($A11,'[1]4หลัก-ปีงบ'!$E$2:$E$5001,0)))/1000000 -> 480.06983
A12: 7 | B12: พลังงานไฟฟ้า | C12: =INDEX('[1]4หลัก-ปีงบ'!$A$2:$A$5001,MATCH($A12,'[1]4หลัก-ปีงบ'!$E$2:$E$5001,0)) -> 2716 | D12: =(INDEX('[1]4หลัก-ปีงบ'!$D$2:$D$5001,MATCH($A12,'[1]4หลัก-ปีงบ'!$E$2:$E$5001,0)))/1000 -> 0.032 | E12: =(INDEX('[1]4หลัก-ปีงบ'!$B$2:$B$5001,MATCH($A12,'[1]4หลัก-ปีงบ'!$E$2:$E$5001,0)))/1000000 -> 417.06438
A13: 8 | B13: น้ำผลไม้ | C13: =INDEX('[1]4หลัก-ปีงบ'!$A$2:$A$5001,MATCH($A13,'[1]4หลัก-ปีงบ'!$E$2:$E$5001,0)) -> 2009 | D13: =(INDEX('[1]4หลัก-ปีงบ'!$D$2:$D$5001,MATCH($A13,'[1]4หลัก-ปีงบ'!$E$2:$E$5001,0)))/1000 -> 6253.8453 | E13: =(INDEX('[1]4หลัก-ปีงบ'!$B$2:$B$5001,MATCH($A13,'[1]4หลัก-ปีงบ'!$E$2:$E$5001,0)))/1000000 -> 349.28911
A14: 9 | B14: เครื่องปรุงรส(ซอส,น้ำปลา) | C14: =INDEX('[1]4หลัก-ปีงบ'!$A$2:$A$5001,MATCH($A14,'[1]4หลัก-ปีงบ'!$E$2:$E$5001,0)) -> 2103 | D14: =(INDEX('[1]4หลัก-ปีงบ'!$D$2:$D$5001,MATCH($A14,'[1]4หลัก-ปีงบ'!$E$2:$E$5001,0)))/1000 -> 5159.1054 | E14: =(INDEX('[1]4หลัก-ปีงบ'!$B$2:$B$5001,MATCH($A14,'[1]4หลัก-ปีงบ'!$E$2:$E$5001,0)))/1000000 -> 327.35648
A15: 10 | B15: แอมโมเนียมไนเทรต | C15: =INDEX('[1]4หลัก-ปีงบ'!$A$2:$A$5001,MATCH($A15,'[1]4หลัก-ปีงบ'!$E$2:$E$5001,0)) -> 3102 | D15: =(INDEX('[1]4หลัก-ปีงบ'!$D$2:$D$5001,MATCH($A15,'[1]4หลัก-ปีงบ'!$E$2:$E$5001,0)))/1000 -> 14719.55 | E15: =(INDEX('[1]4หลัก-ปีงบ'!$B$2:$B$5001,MATCH($A15,'[1]4หลัก-ปีงบ'!$E$2:$E$5001,0)))/1000000 -> 323.44317
B16: รวม | D16: =SUM(D6:D15) -> 295016.34 | E16: =SUM(E6:E15) -> 10699.825
B17: อื่น ๆ | D17: =+D18-D16 -> 222689.73 | E17: =+E18-E16 -> 8545.9554
B18: รวมทั้งหมด | D18: =ROUND((SUM('[1]CISขาออก-ปีงบ'!E2:E5001)/1000),2) -> 517706.07 | E18: =ROUND((SUM('[1]CISขาออก-ปีงบ'!C2:C5001)/1000000),2) -> 19245.78
B20: จำนวนใบขนสินค้าขาออก | C20: 23494 | D20: ฉบับ

Sheet กย.68 ขาเข้า
A1: มูลค่าสินค้านำเข้าสูงสุด 10 อันดับ
A2: ประจำปีงบประมาณ 2568 (กันยายน 2568)
A3: ด่านศุลกากรช่องเม็ก
A4: ลำดับ | B4: พิกัด | C4: ชนิดสินค้า | D4: น้ำหนัก (กิโลกรัม) | E4: มูลค่าการนำเข้า (บาท) | F4: ภาษีมูลค่าเพิ่ม (บาท)
A5: 1 | B5: 27160000 | C5: พลังงานไฟฟ้า | D5: 3 | E5: 6.760988e+08 | F5: 47326916
A6: 2 | B6: 9011120 | C6: เมล็ดกาแฟดิบอะราบิก้า | D6: 685800 | E6: 1.0820033e+08 | F6: 0
A7: 3 | B7: 7142090 | C7: มันเทศ | D7: 1796200 | E7: 27399101 | F7: 0
A8: 4 | B8: 76020000 | C8: เศษอลูมิเนียมกระป๋อง(เก่าใช้แล้ว) | D8: 332199 | E8: 21692090 | F8: 1518446.3
A9: 5 | B9: 21011291 | C9: กาแฟอาราบิกาปรุงสำเร็จชนิดผง | D9: 119808 | E9: 16724051 | F9: 1254863.6
A10: 6 | B10: 8039090 | C10: กล้วยดิบ | D10: 1602553 | E10: 16051693 | F10: 0
A11: 7 | B11: 85443014 | C11: ชุดสายไฟ | D11: 5497.74 | E11: 15657837 | F11: 334398.97
A12: 8 | B12: 74040000 | C12: เศษทองแดง เก่าใช้แล้ว | D12: 40470 | E12: 9577740 | F12: 670441.8
A13: 9 | B13: 7141011 | C13: มันสำปะหลัง (มันเส้น) | D13: 1485000 | E13: 8091115.5 | F13: 0
A14: 10 | B14: 3019949 | C14: ปลาช่อนมีชีวิต | D14: 175410 | E14: 7788204 | F14: 0
A15: รวม 10 อันดับ | D15: =SUM(D5:D14) -> 6242940.7 | E15: =SUM(E5:E14) -> 9.0728096e+08 | F15: =SUM(F5:F14) -> 51105067
A16: อื่น ๆ | D16: =D17-D15 -> 1600345.3 | E16: =E17-E15 -> 55776326 | F16: =F17-F15 -> 852973.77
A17: รวมทั้งสิ้น | D17: 7843286.1 | E17: 9.6305729e+08 | F17: 51958040
A18: ข้อมูลตามวันที่ตรวจปล่อย ณ วันที่ 4 ตุลาคม 2568

Sheet ตค-กย.68
A1: มูลค่าสินค้านำเข้าสูงสุด 10 อันดับ
A2: ประจำปีงบประมาณ 2568 (ตุลาคม 2567 - กันยายน 2568)
A3: ด่านศุลกากรช่องเม็ก
A4: ลำดับ | B4: พิกัด | C4: ชนิดสินค้า | D4: น้ำหนัก (กิโลกรัม) | E4: มูลค่าการนำเข้า (บาท) | F4: ภาษีมูลค่าเพิ่ม (บาท)
A5: 1 | B5: 7141011 | C5: มันสำปะหลัง (มันเส้น) | D5: 1603355500 | E5: 9.1091254e+09 | F5: 0
A6: 2 | B6: 27160000 | C6: พลังงานไฟฟ้า | D6: 35 | E6: 5.9465667e+09 | F6: 4.1625967e+08
A7: 3 | B7: 9011120 | C7: เมล็ดกาแฟดิบอะราบิก้า | D7: 12482056 | E7: 1.73986e+09 | F7: 0
A8: 4 | B8: 9011130 | C8: เมล็ดกาแฟดิบโรบัสต้า | D8: 3970440 | E8: 3.2589353e+08 | F8: 0
A9: 5 | B9: 85443014 | C9: ชุดสายไฟ | D9: 69236.86 | E9: 2.1459263e+08 | F9: 3665465.2
A10: 6 | B10: 8039090 | C10: กล้วยดิบ | D10: 20023633 | E10: 2.0226117e+08 | F10: 0
A11: 7 | B11: 7141099 | C11: มันสำปะหลัง (หัวมันสด) | D11: 102726000 | E11: 1.9551972e+08 | F11: 0
A12: 8 | B12: 07049010 | C12: กะหล่ำปลี | D12: 11545520 | E12: 1.7989292e+08 | F12: 0
A13: 9 | B13: 87041017 | C13: รถบรรทุกดั้มพ์* | D13: 495000 | E13: 1.1992883e+08 | F13: 0
A14: 10 | B14: 84295200 | C14: รถขุดดิน* | D14: 630750 | E14: 1.1894549e+08 | F14: 0
A15: รวม 10 อันดับ | D15: =SUM(D5:D14) -> 1.7552982e+09 | E15: =SUM(E5:E14) -> 1.8152586e+10 | F15: =SUM(F5:F14) -> 4.1992513e+08
A16: อื่น ๆ | D16: =D17-D15 -> 32501589 | E16: =E17-E15 -> 8.6283267e+08 | F16: =F17-F15 -> 23474420
A17: รวมทั้งสิ้น | D17: 1.7877998e+09 | E17: 1.9015419e+10 | F17: 4.4339955e+08
A18: ข้อมูลตามวันที่ตรวจปล่อย ณ วันที่ 4 ตุลาคม 2568
A19: * หมายถึง ใบขนสินค้าขาเข้าใช้สิทธิประโยชน์สุทธินำกลับ

Sheet ผ่านแดน กย.68
A1: ด่านศุลกากรช่องเม็ก
A2: มูลค่าสินค้าผ่านแดนสูงสุด 10 อันดับ
A3: ปีงบประมาณ พ.ศ. 2568 เดือนกันยายน 2568
B4: ผ่านแดนเข้า | G4: ผ่านแดนออก
A5: ลำดับ | B5: มูลค่าสินค้าผ่านแดน จาก สปป.ลาว ไปประเทศที่สาม | F5: ลำดับ | G5: มูลค่าสินค้าผ่านแดน จาก ประเทศที่สามไป สปป.ลาว
A6: ที่ | B6: ชนิดสินค้า | C6: พิกัด | D6: น้ำหนัก (ตัน) | E6: มูลค่า (บาท) | F6: ที่ | G6: ชนิดสินค้า | H6: พิกัด | I6: น้ำหนัก (ตัน) | J6: มูลค่า (บาท)
A7: 1 | B7: แร่ดีบุก | C7: 2609 | D7: 27.28 | E7: 13722590 | F7: 1 | G7: รถยนต์ใหม่ | H7: 8702, 8703 | I7: 51.74 | J7: 31430676
A8: 2 | B8: เหล็กม้วนชุบสังกะสี | C8: 7210 | D8: 733.958 | E8: 3550486 | F8: 2 | G8: ระบบดับเพลิง,เครื่องจักรสำหรับกรองของเหลวและอุปกรณ์ต่างๆ | H8: 8424 | I8: 26.62 | J8: 8195845.8
A9: 3 | B9: ไม้ประดู่ท่อน | C9: 4407 | D9: 204.015 | E9: 1888499 | F9: 3 | G9: เครื่องทำกระดาษแข็ง | H9: 8439 | I9: 304.684 | J9: 7711712.2
F10: 4 | G10: ลิฟท์เครื่องลำเลียงขวดน้ำพร้อมส่วนประกอบ | H10: 8428 | I10: 21.406 | J10: 7095595.4
F11: 5 | G11: ท่อและส่วนประกอบต่างๆ | H11: 7307 | I11: 6.635 | J11: 6627023.4
F12: 6 | G12: หม้อแปลงไฟฟ้าและอุปกรณ์ต่างๆ | H12: 8504 | I12: 24.153 | J12: 6527872.4
F13: 7 | G13: ผลิตภัณฑ์ทางการแพทย์ | H13: 8419 | I13: 25.0716 | J13: 5825671.3
F14: 8 | G14: ยาปฏิชีวนะ | H14: 7010 | I14: 37.0031 | J14: 5558450.9
F15: 9 | G15: ยางรถบรรทุก ยางรถแทรกเตอร์ | H15: 4011 | I15: 113.5402 | J15: 4569252.1
F16: 10 | G16: น้ำมันหล่อลื่น | H16: 2710 | I16: 138.2631 | J16: 3649401.7
A17: รวมสินค้าผ่านแดนขาเข้า 10 อันดับ | D17: =SUM(D7:D16) -> 965.253 | E17: =SUM(E7:E16) -> 19161575 | F17: รวมสินค้าผ่านแดนขาออก 10 อันดับ | I17: =SUM(I7:I16) -> 749.116 | J17: =SUM(J7:J16) -> 87191501
A18: อื่นๆ | D18: - | E18: - | F18: อื่นๆ | I18: 792.87947 | J18: 32405535
A19: รวมทั้งสิ้น | D19: =D17 -> 965.253 | E19: =E17 -> 19161575 | F19: รวมทั้งสิ้น | I19: =SUM(I17:I18) -> 1541.9955 | J19: =SUM(J17:J18) -> 1.1959704e+08
A20: จำนวนใบขนผ่านแดนเข้า 9 ฉบับ จำนวนรถบรรทุก 23 คัน | F20: จำนวนใบขนผ่านแดนออก 79 ฉบับ จำนวนรถบรรทุก 111 คัน
A22: รวมสินค้าผ่านแดนขาเข้า 10 อันดับ | D22: 4511.9899 | E22: 9.0159608e+08 | F22: รวมสินค้าผ่านแดนขาออก 10 อันดับ | I22: 8156.0475 | J22: 1.3208161e+09
A23: อื่นๆ | D23: 497.7122 | E23: 17838582 | F23: อื่นๆ | I23: 18028.145 | J23: 1.1457343e+09
A24: รวมทั้งสิ้น | D24: 5009.7021 | E24: 9.1943466e+08 | F24: รวมทั้งสิ้น | I24: 26184.193 | J24: 2.4665505e+09
D26: =D19+D24 -> 5974.9551 | E26: =E19+E24 -> 9.3859623e+08 | I26: =I24+I19 -> 27726.188 | J26: =J24+J19 -> 2.5861475e+09
A30: ด่านศุลกากรช่องเม็ก
A31: มูลค่าสินค้าผ่านแดนสูงสุด 10 อันดับ
A32: ปีงบประมาณ พ.ศ. 2568 เดือนตุลาคม-กันยายน 2568
B33: ผ่านแดนเข้า | G33: ผ่านแดนออก
A34: ลำดับ | B34: มูลค่าสินค้าผ่านแดน จาก สปป.ลาว ไปประเทศที่สาม | F34: ลำดับ | G34: มูลค่าสินค้าผ่านแดน จาก ประเทศที่สามไป สปป.ลาว
A35: ที่ | B35: ชนิดสินค้า | C35: พิกัด | D35: น้ำหนัก (ตัน) | E35: มูลค่า (บาท) | F35: ที่ | G35: ชนิดสินค้า | H35: พิกัด | I35: น้ำหนัก (ตัน) | J35: มูลค่า (บาท)
A36: 1 | B36: เมล็ดกาแฟดิบ | C36: 0901' | D36: 3162.2096 | E36: 7.3432494e+08 | F36: 1 | G36: บุหรี่ | H36: 2402 | I36: 1482.2901 | J36: 6.0355494e+08
A37: 2 | B37: ขิงแห้ง | C37: 9101 | D37: 78.7745 | E37: 45650580 | F37: 2 | G37: รถยนต์ใหม่ | H37: 8702, 8703 | I37: 290.3 | J37: 1.8120649e+08
A38: 3 | B38: สมุนไพร | C38: 9061 | D38: 47.2545 | E38: 27502328 | F38: 3 | G38: ส่วนประกอบของ โรเตอร์ (ROTOR) ในเครื่องกำเนิดไฟฟ้า | H38: 8503 | I38: 201.285 | J38: 1.2900305e+08
A39: 4 | B39: ยาเส้นพร้อมปลอก | C39: 2401 | D39: 30.70314 | E39: 20289506 | F39: 4 | G39: รถตัก (ล้อยาง) | H39: 8429 | I39: 801.149 | J39: 76484966
A40: 5 | B40: ชุดฟันดาบญี่ปุ่น | C40: 6211 | D40: 11.7854 | E40: 18233856 | F40: 5 | G40: มอลต์ | H40: 1107 | I40: 4284.776 | J40: 76127948
A41: 6 | B41: แป้งมันสำปะหลัง | C41: 1108 | D41: 845.05 | E41: 14269242 | F41: 6 | G41: เครื่องส่งสายไฟ | H41: 8445 | I41: 0.048 | J41: 68931840
A42: 7 | B42: แร่ดีบุก | C42: 2609 | D42: 27.28 | E42: 13722590 | F42: 7 | G42: ส่วนประกอบของเครื่องควบคุมเรกูเลเตอร์ | H42: 8410 | I42: 237.2238 | J42: 63154074
A43: 8 | B43: รถผสมคอนกรีต | C43: 8705 | D43: 77 | E43: 11888575 | F43: 8 | G43: เครื่องมือช่าง | H43: 8502 | I43: 635.49 | J43: 54735152
A44: 9 | B44: เนื้อปลาสวาย ฟิลเล แช่แข็ง | C44: 3046 | D44: 101.5 | E44: 11505925 | F44: 9 | G44: เครื่องกำเนิดไฟฟ้าหลัก หม้อแปลงเพิ่มแรงดัน ส่วนประกอบต่างๆ | H44: 8504 | I44: 275.197 | J44: 50661878
A45: 10 | B45: รถขุด | C45: 8429 | D45: 96.875 | E45: 9570300 | F45: 10 | G45: เครื่องตัดสายไฟ | H45: 8441 | I45: 0.0286 | J45: 48386480
A46: รวมสินค้าผ่านแดนขาเข้า 10 อันดับ | D46: =SUM(D36:D45) -> 4478.4321 | E46: =SUM(E36:E45) -> 9.0695784e+08 | F46: รวมสินค้าผ่านแดนขาออก 10 อันดับ | I46: =SUM(I36:I45) -> 8207.7875 | J46: =SUM(J36:J45) -> 1.3522468e+09
A47: อื่นๆ | D47: 1496.523 | E47: 31638394 | F47: อื่นๆ | I47: 19518.401 | J47: 1.2339007e+09
A48: รวมทั้งสิ้น | D48: =SUM(D46:D47) -> 5974.9551 | E48: =SUM(E46:E47) -> 9.3859623e+08 | F48: รวมทั้งสิ้น | I48: =SUM(I46:I47) -> 27726.188 | J48: =SUM(J46:J47) -> 2.5861475e+09
A49: จำนวนใบขนผ่านแดนเข้า 149 ฉบับ จำนวนรถบรรทุก 297 คัน | F49: จำนวนใบขนผ่านแดนออก 1,066 ฉบับ จำนวนรถบรรทุก 1,722 คัน
C50: =8+8+10+11+10+22+14+21+13+16+7+9 -> 149 | D50: =20+11+20+17+25+40+35+31+28+40+7+23 -> 297 | H50: =122+105+85+90+73+100+96+91+87+77+61+79 -> 1066 | J50: =171+213+165+143+92+170+145+145+167+104+96+111 -> 1722
