Workbook

Sheet ขาออก สค.68
A1: ="ด่านศุลกากร"&[1]กรอกข้อมูล!B1 -> ด่านศุลกากรช่องเม็ก
A2: สินค้าส่งออกสูงสุด 10 อันดับ
A3: ="ปีงบประมาณ "&[1]กรอกข้อมูล!B2&" ("&[1]กรอกข้อมูล!C4&" "&[1]กรอกข้อมูล!D4&")" -> ปีงบประมาณ 2568 (สิงหาคม 2568)
A5: ลำดับที่ | B5: ชนิดสินค้า | C5: พิกัด | D5: น้ำหนัก (ตัน) | E5: มูลค่า (ล้านบาท)
A6: 1 | B6: น้ำมันเชื้อเพลิง (น้ำมันดีเชล,น้ำมันเบนซิน) | C6: =INDEX('[1]4หลัก-เดือน'!$A$2:$A$5001,MATCH($A6,'[1]4หลัก-เดือน'!$E$2:$E$5001,0)) -> 2710 | D6: =(INDEX('[1]4หลัก-เดือน'!$D$2:$D$5001,MATCH($A6,'[1]4หลัก-เดือน'!$E$2:$E$5001,0)))/1000 -> 13833.661 | E6: =(INDEX('[1]4หลัก-เดือน'!$B$2:$B$5001,MATCH($A6,'[1]4หลัก-เดือน'!$E$2:$E$5001,0)))/1000000 -> 330.20188
A7: 2 | B7: ครีมเทียม | C7: =INDEX('[1]4หลัก-เดือน'!$A$2:$A$5001,MATCH($A7,'[1]4หลัก-เดือน'!$E$2:$E$5001,0)) -> 2106 | D7: =(INDEX('[1]4หลัก-เดือน'!$D$2:$D$5001,MATCH($A7,'[1]4หลัก-เดือน'!$E$2:$E$5001,0)))/1000 -> 1694.8235 | E7: =(INDEX('[1]4หลัก-เดือน'!$B$2:$B$5001,MATCH($A7,'[1]4หลัก-เดือน'!$E$2:$E$5001,0)))/1000000 -> 94.738906
A8: 3 | B8: นนกล่องและเครื่องดื่มอื่นๆ | C8: =INDEX('[1]4หลัก-เดือน'!$A$2:$A$5001,MATCH($A8,'[1]4หลัก-เดือน'!$E$2:$E$5001,0)) -> 2202 | D8: =(INDEX('[1]4หลัก-เดือน'!$D$2:$D$5001,MATCH($A8,'[1]4หลัก-เดือน'!$E$2:$E$5001,0)))/1000 -> 3278.1165 | E8: =(INDEX('[1]4หลัก-เดือน'!$B$2:$B$5001,MATCH($A8,'[1]4หลัก-เดือน'!$E$2:$E$5001,0)))/1000000 -> 88.688051
A9: 4 | B9: รถยนต์(รถกระบะ) | C9: =INDEX('[1]4หลัก-เดือน'!$A$2:$A$5001,MATCH($A9,'[1]4หลัก-เดือน'!$E$2:$E$5001,0)) -> 8704 | D9: =(INDEX('[1]4หลัก-เดือน'!$D$2:$D$5001,MATCH($A9,'[1]4หลัก-เดือน'!$E$2:$E$5001,0)))/1000 -> 231.4 | E9: =(INDEX('[1]4หลัก-เดือน'!$B$2:$B$5001,MATCH($A9,'[1]4หลัก-เดือน'!$E$2:$E$5001,0)))/1000000 -> 79.23606
A10: 5 | B10: อาหารปรุงแต่งจากเนื้อสัตว์ ปลา เช่น ลูกชิ้น ปูอัด | C10: =INDEX('[1]4หลัก-เดือน'!$A$2:$A$5001,MATCH($A10,'[1]4หลัก-เดือน'!$E$2:$E$5001,0)) -> 1604 | D10: =(INDEX('[1]4หลัก-เดือน'!$D$2:$D$5001,MATCH($A10,'[1]4หลัก-เดือน'!$E$2:$E$5001,0)))/1000 -> 540.92314 | E10: =(INDEX('[1]4หลัก-เดือน'!$B$2:$B$5001,MATCH($A10,'[1]4หลัก-เดือน'!$E$2:$E$5001,0)))/1000000 -> 58.241275
A11: 6 | B11: พลาสติก (บรรจุภัณฑ์และของใช้จากพลาสติก) | C11: =INDEX('[1]4หลัก-เดือน'!$A$2:$A$5001,MATCH($A11,'[1]4หลัก-เดือน'!$E$2:$E$5001,0)) -> 3923 | D11: =(INDEX('[1]4หลัก-เดือน'!$D$2:$D$5001,MATCH($A11,'[1]4หลัก-เดือน'!$E$2:$E$5001,0)))/1000 -> 930.78221 | E11: =(INDEX('[1]4หลัก-เดือน'!$B$2:$B$5001,MATCH($A11,'[1]4หลัก-เดือน'!$E$2:$E$5001,0)))/1000000 -> 53.659473
A12: 7 | B12: ชาเขียวผงปรุงแต่งสำเร็จรูป | C12: =INDEX('[1]4หลัก-เดือน'!$A$2:$A$5001,MATCH($A12,'[1]4หลัก-เดือน'!$E$2:$E$5001,0)) -> 2101 | D12: =(INDEX('[1]4หลัก-เดือน'!$D$2:$D$5001,MATCH($A12,'[1]4หลัก-เดือน'!$E$2:$E$5001,0)))/1000 -> 277.0821 | E12: =(INDEX('[1]4หลัก-เดือน'!$B$2:$B$5001,MATCH($A12,'[1]4หลัก-เดือน'!$E$2:$E$5001,0)))/1000000 -> 51.10451
A13: 8 | B13: ไส้กรอก,เบคอน | C13: =INDEX('[1]4หลัก-เดือน'!$A$2:$A$5001,MATCH($A13,'[1]4หลัก-เดือน'!$E$2:$E$5001,0)) -> 1601 | D13: =(INDEX('[1]4หลัก-เดือน'!$D$2:$D$5001,MATCH($A13,'[1]4หลัก-เดือน'!$E$2:$E$5001,0)))/1000 -> 654.735 | E13: =(INDEX('[1]4หลัก-เดือน'!$B$2:$B$5001,MATCH($A13,'[1]4หลัก-เดือน'!$E$2:$E$5001,0)))/1000000 -> 41.10719
A14: 9 | B14: อาหารสัตว์ | C14: =INDEX('[1]4หลัก-เดือน'!$A$2:$A$5001,MATCH($A14,'[1]4หลัก-เดือน'!$E$2:$E$5001,0)) -> 2309 | D14: =(INDEX('[1]4หลัก-เดือน'!$D$2:$D$5001,MATCH($A14,'[1]4หลัก-เดือน'!$E$2:$E$5001,0)))/1000 -> 1648.2844 | E14: =(INDEX('[1]4หลัก-เดือน'!$B$2:$B$5001,MATCH($A14,'[1]4หลัก-เดือน'!$E$2:$E$5001,0)))/1000000 -> 39.687222
A15: 10 | B15: เครื่องปรุงรส (ซอส,น้ำปลา) | C15: =INDEX('[1]4หลัก-เดือน'!$A$2:$A$5001,MATCH($A15,'[1]4หลัก-เดือน'!$E$2:$E$5001,0)) -> 2103 | D15: =(INDEX('[1]4หลัก-เดือน'!$D$2:$D$5001,MATCH($A15,'[1]4หลัก-เดือน'!$E$2:$E$5001,0)))/1000 -> 673.63029 | E15: =(INDEX('[1]4หลัก-เดือน'!$B$2:$B$5001,MATCH($A15,'[1]4หลัก-เดือน'!$E$2:$E$5001,0)))/1000000 -> 39.396866
B16: รวม | D16: =SUM(D6:D15) -> 23763.438 | E16: =SUM(E6:E15) -> 876.06143
B17: อื่น ๆ | D17: =+D18-D16 -> 21499.182 | E17: =+E18-E16 -> 816.87857
B18: รวมทั้งหมด | D18: =ROUND((SUM('[1]CISขาออก-เดือน'!E2:E5001)/1000),2) -> 45262.62 | E18: =ROUND((SUM('[1]CISขาออก-เดือน'!C2:C5001)/1000000),2) -> 1692.94
B20: จำนวนใบขนสินค้าขาออก | C20: 2035 | D20: ฉบับ

Sheet ออก ตค- สค. 68
A1: ="ด่านศุลกากร"&[1]กรอกข้อมูล!B1 -> ด่านศุลกากรช่องเม็ก
A2: สินค้าส่งออกสูงสุด 10 อันดับ
A3: ="ปีงบประมาณ "&[1]กรอกข้อมูล!B2&" วันที่ "&[1]กรอกข้อมูล!B3&" "&[1]กรอกข้อมูล!C3&" "&[1]กรอกข้อมูล!D3&" ถึง "&[1]กรอกข้อมูล!B4&" "&[1]กรอกข้อมูล!C4&" "&[1]กรอกข้อมูล!D4 -> ปีงบประมาณ 2568 วันที่ 1 ตุลาคม 2567 ถึง 31 สิงหาคม 2568
B4: ="ปีงบประมาณ "&[1]กรอกข้อมูล!B2&" วันที่ "&[1]กรอกข้อมูล!B3&" "&[1]กรอกข้อมูล!C3&" "&[1]กรอกข้อมูล!D3&" ถึง "&[1]กรอกข้อมูล!B4&" "&[1]กรอกข้อมูล!C4&" "&[1]กรอกข้อมูล!D4 -> ปีงบประมาณ 2568 วันที่ 1 ตุลาคม 2567 ถึง 31 สิงหาคม 2568
A5: ลำดับที่ | B5: ชนิดสินค้า | C5: พิกัด | D5: น้ำหนัก (ตัน) | E5: มูลค่า (ล้านบาท)
A6: 1 | B6: น้ำมันเชื้อเพลิง (น้ำมันดีเชล,น้ำมันเบนซิน) | C6: =INDEX('[1]4หลัก-ปีงบ'!$A$2:$A$5001,MATCH($A6,'[1]4หลัก-ปีงบ'!$E$2:$E$5001,0)) -> 2710 | D6: =(INDEX('[1]4หลัก-ปีงบ'!$D$2:$D$5001,MATCH($A6,'[1]4หลัก-ปีงบ'!$E$2:$E$5001,0)))/1000 -> 206725.33 | E6: =(INDEX('[1]4หลัก-ปีงบ'!$B$2:$B$5001,MATCH($A6,'[1]4หลัก-ปีงบ'!$E$2:$E$5001,0)))/1000000 -> 5509.1338
A7: 2 | B7: พลาสติก(บรรจุภัณฑ์และของใช้จากพลาสติก) | C7: =INDEX('[1]4หลัก-ปีงบ'!$A$2:$A$5001,MATCH($A7,'[1]4หลัก-ปีงบ'!$E$2:$E$5001,0)) -> 3923 | D7: =(INDEX('[1]4หลัก-ปีงบ'!$D$2:$D$5001,MATCH($A7,'[1]4หลัก-ปีงบ'!$E$2:$E$5001,0)))/1000 -> 12105.12 | E7: =(INDEX('[1]4หลัก-ปีงบ'!$B$2:$B$5001,MATCH($A7,'[1]4หลัก-ปีงบ'!$E$2:$E$5001,0)))/1000000 -> 784.40304
A8: 3 | B8: รถยนต์ | C8: =INDEX('[1]4หลัก-ปีงบ'!$A$2:$A$5001,MATCH($A8,'[1]4หลัก-ปีงบ'!$E$2:$E$5001,0)) -> 8703 | D8: =(INDEX('[1]4หลัก-ปีงบ'!$D$2:$D$5001,MATCH($A8,'[1]4หลัก-ปีงบ'!$E$2:$E$5001,0)))/1000 -> 1757.7323 | E8: =(INDEX('[1]4หลัก-ปีงบ'!$B$2:$B$5001,MATCH($A8,'[1]4หลัก-ปีงบ'!$E$2:$E$5001,0)))/1000000 -> 708.32842
A9: 4 | B9: นมกล่องและเครื่องดื่มอื่นๆ | C9: =INDEX('[1]4หลัก-ปีงบ'!$A$2:$A$5001,MATCH($A9,'[1]4หลัก-ปีงบ'!$E$2:$E$5001,0)) -> 2202 | D9: =(INDEX('[1]4หลัก-ปีงบ'!$D$2:$D$5001,MATCH($A9,'[1]4หลัก-ปีงบ'!$E$2:$E$5001,0)))/1000 -> 20185.909 | E9: =(INDEX('[1]4หลัก-ปีงบ'!$B$2:$B$5001,MATCH($A9,'[1]4หลัก-ปีงบ'!$E$2:$E$5001,0)))/1000000 -> 693.88898
A10: 5 | B10: รถไถนา | C10: =INDEX('[1]4หลัก-ปีงบ'!$A$2:$A$5001,MATCH($A10,'[1]4หลัก-ปีงบ'!$E$2:$E$5001,0)) -> 8701 | D10: =(INDEX('[1]4หลัก-ปีงบ'!$D$2:$D$5001,MATCH($A10,'[1]4หลัก-ปีงบ'!$E$2:$E$5001,0)))/1000 -> 2682.6404 | E10: =(INDEX('[1]4หลัก-ปีงบ'!$B$2:$B$5001,MATCH($A10,'[1]4หลัก-ปีงบ'!$E$2:$E$5001,0)))/1000000 -> 574.91665
A11: 6 | B11: ครีมเทียม,น้ำหวาน | C11: =INDEX('[1]4หลัก-ปีงบ'!$A$2:$A$5001,MATCH($A11,'[1]4หลัก-ปีงบ'!$E$2:$E$5001,0)) -> 2106 | D11: =(INDEX('[1]4หลัก-ปีงบ'!$D$2:$D$5001,MATCH($A11,'[1]4หลัก-ปีงบ'!$E$2:$E$5001,0)))/1000 -> 6684.5263 | E11: =(INDEX('[1]4หลัก-ปีงบ'!$B$2:$B$5001,MATCH($A11,'[1]4หลัก-ปีงบ'!$E$2:$E$5001,0)))/1000000 -> 429.00024
A12: 7 | B12: พลังงานไฟฟ้า | C12: =INDEX('[1]4หลัก-ปีงบ'!$A$2:$A$5001,MATCH($A12,'[1]4หลัก-ปีงบ'!$E$2:$E$5001,0)) -> 2716 | D12: =(INDEX('[1]4หลัก-ปีงบ'!$D$2:$D$5001,MATCH($A12,'[1]4หลัก-ปีงบ'!$E$2:$E$5001,0)))/1000 -> 0.03 | E12: =(INDEX('[1]4หลัก-ปีงบ'!$B$2:$B$5001,MATCH($A12,'[1]4หลัก-ปีงบ'!$E$2:$E$5001,0)))/1000000 -> 416.28405
A13: 8 | B13: น้ำผลไม้ | C13: =INDEX('[1]4หลัก-ปีงบ'!$A$2:$A$5001,MATCH($A13,'[1]4หลัก-ปีงบ'!$E$2:$E$5001,0)) -> 2009 | D13: =(INDEX('[1]4หลัก-ปีงบ'!$D$2:$D$5001,MATCH($A13,'[1]4หลัก-ปีงบ'!$E$2:$E$5001,0)))/1000 -> 5987.1521 | E13: =(INDEX('[1]4หลัก-ปีงบ'!$B$2:$B$5001,MATCH($A13,'[1]4หลัก-ปีงบ'!$E$2:$E$5001,0)))/1000000 -> 332.35159
A14: 9 | B14: อาหารสัตว์ | C14: =INDEX('[1]4หลัก-ปีงบ'!$A$2:$A$5001,MATCH($A14,'[1]4หลัก-ปีงบ'!$E$2:$E$5001,0)) -> 2309 | D14: =(INDEX('[1]4หลัก-ปีงบ'!$D$2:$D$5001,MATCH($A14,'[1]4หลัก-ปีงบ'!$E$2:$E$5001,0)))/1000 -> 14918.303 | E14: =(INDEX('[1]4หลัก-ปีงบ'!$B$2:$B$5001,MATCH($A14,'[1]4หลัก-ปีงบ'!$E$2:$E$5001,0)))/1000000 -> 297.03373
A15: 10 | B15: ผงชูรส | C15: =INDEX('[1]4หลัก-ปีงบ'!$A$2:$A$5001,MATCH($A15,'[1]4หลัก-ปีงบ'!$E$2:$E$5001,0)) -> 2922 | D15: =(INDEX('[1]4หลัก-ปีงบ'!$D$2:$D$5001,MATCH($A15,'[1]4หลัก-ปีงบ'!$E$2:$E$5001,0)))/1000 -> 3446.807 | E15: =(INDEX('[1]4หลัก-ปีงบ'!$B$2:$B$5001,MATCH($A15,'[1]4หลัก-ปีงบ'!$E$2:$E$5001,0)))/1000000 -> 294.96284
B16: รวม | D16: =SUM(D6:D15) -> 274493.56 | E16: =SUM(E6:E15) -> 10040.303
B17: อื่น ๆ | D17: =+D18-D16 -> 198187.29 | E17: =+E18-E16 -> 7397.6466
B18: รวมทั้งหมด | D18: =ROUND((SUM('[1]CISขาออก-ปีงบ'!E2:E5001)/1000),2) -> 472680.85 | E18: =ROUND((SUM('[1]CISขาออก-ปีงบ'!C2:C5001)/1000000),2) -> 17437.95
B20: จำนวนใบขนสินค้าขาออก | C20: 21303 | D20: ฉบับ

Sheet ขาเข้า สค.68
A1: มูลค่าสินค้านำเข้าสูงสุด 10 อันดับ
A2: ประจำปีงบประมาณ 2568 (สิงหาคม 2568)
A3: ด่านศุลกากรช่องเม็ก
A4: ลำดับ | B4: พิกัด | C4: ชนิดสินค้า | D4: น้ำหนัก (กิโลกรัม) | E4: มูลค่าการนำเข้า (บาท) | F4: ภาษีมูลค่าเพิ่ม (บาท)
A5: 1 | B5: 27160000 | C5: พลังงานไฟฟ้า | D5: 3 | E5: 6.9903385e+08 | F5: 48932370
A6: 2 | B6: 9011120 | C6: เมล็ดกาแฟดิบอะราบิก้า | D6: 862400 | E6: 1.4093949e+08 | F6: 0
A7: 3 | B7: 76020000 | C7: เศษอลูมิเนียมกระป๋อง(เก่าใช้แล้ว) | D7: 299680 | E7: 19577779 | F7: 1370444.5
A8: 4 | B8: 85443014 | C8: ชุดสายไฟ | D8: 6413.58 | E8: 19032659 | F8: 314932.9
A9: 5 | B9: 12024100 | C9: ถั่วลิสงทั้งเปลือก | D9: 942550 | E9: 18697716 | F9: 0
A10: 6 | B10: 8039090 | C10: กล้วยดิบ | D10: 1988509 | E10: 18586901 | F10: 0
A11: 7 | B11: 21011291 | C11: กาแฟอาราบิกาปรุงสำเร็จชนิดผง | D11: 109728 | E11: 15063171 | F11: 1131519.6
A12: 8 | B12: 11081400 | C12: แป้งมันสำปะหลัง | D12: 1227300 | E12: 13146714 | F12: 920269.98
A13: 9 | B13: 3027900 | C13: ปลาช่อนแช่เย็น | D13: 193900 | E13: 11837595 | F13: 0
A14: 10 | B14: 7142090 | C14: มันเทศ | D14: 745950 | E14: 11288629 | F14: 0
A15: รวม 10 อันดับ | D15: =SUM(D5:D14) -> 6376433.6 | E15: =SUM(E5:E14) -> 9.6720451e+08 | F15: =SUM(F5:F14) -> 52669537
A16: อื่น ๆ | D16: =D17-D15 -> 2211377.7 | E16: =E17-E15 -> 35269261 | F16: =F17-F15 -> 266506.97
A17: รวมทั้งสิ้น | D17: 8587811.3 | E17: 1.0024738e+09 | F17: 52936044
A18: ข้อมูลตามวันที่ตรวจปล่อย ณ วันที่ 3 กันยายน 2568

Sheet ขาเข้า ตค67-สค68
A1: มูลค่าสินค้านำเข้าสูงสุด 10 อันดับ
A2: ประจำปีงบประมาณ 2568 (ตุลาคม 2567 - สิงหาคม 2568)
A3: ด่านศุลกากรช่องเม็ก
A4: ลำดับ | B4: พิกัด | C4: ชนิดสินค้า | D4: น้ำหนัก (กิโลกรัม) | E4: มูลค่าการนำเข้า (บาท) | F4: ภาษีมูลค่าเพิ่ม (บาท)
A5: 1 | B5: 7141011 | C5: มันสำปะหลัง (มันเส้น) | D5: 1601870500 | E5: 9.1010343e+09 | F5: 0
A6: 2 | B6: 27160000 | C6: พลังงานไฟฟ้า | D6: 32 | E6: 5.2704679e+09 | F6: 3.6893275e+08
A7: 3 | B7: 9011120 | C7: เมล็ดกาแฟดิบอะราบิก้า | D7: 11796256 | E7: 1.6316596e+09 | F7: 0
A8: 4 | B8: 9011130 | C8: เมล็ดกาแฟดิบโรบัสต้า | D8: 3870440 | E8: 3.2052112e+08 | F8: 0
A9: 5 | B9: 85443014 | C9: ชุดสายไฟ | D9: 63739.12 | E9: 1.989348e+08 | F9: 3331066.2
A10: 6 | B10: 7141099 | C10: มันสำปะหลัง (หัวมันสด) | D10: 102726000 | E10: 1.9551972e+08 | F10: 0
A11: 7 | B11: 08039090 | C11: กล้วยดิบ | D11: 18385080 | E11: 1.8562577e+08 | F11: 0
A12: 8 | B12: 07049010 | C12: กะหล่ำปลี | D12: 11146920 | E12: 1.7381189e+08 | F12: 0
A13: 9 | B13: 87041017 | C13: รถบรรทุกดั้มพ์* | D13: 495000 | E13: 1.1992883e+08 | F13: 0
A14: 10 | B14: 84295200 | C14: รถขุดดิน* | D14: 630750 | E14: 1.1894549e+08 | F14: 0
A15: รวม 10 อันดับ | D15: =SUM(D5:D14) -> 1.7509847e+09 | E15: =SUM(E5:E14) -> 1.7316449e+10 | F15: =SUM(F5:F14) -> 3.7226382e+08
A16: อื่น ๆ | D16: =D17-D15 -> 28935756 | E16: =E17-E15 -> 7.353286e+08 | F16: =F17-F15 -> 19177695
A17: รวมทั้งสิ้น | D17: 1.7799205e+09 | E17: 1.8051778e+10 | F17: 3.9144151e+08
A18: ข้อมูลตามวันที่ตรวจปล่อย ณ วันที่ 3 กันยายน 2568
A19: * หมายถึง ใบขนสินค้าขาเข้าใช้สิทธิประโยชน์สุทธินำกลับ

Sheet ผด.68
A1: ด่านศุลกากรช่องเม็ก
A2: มูลค่าสินค้าผ่านแดนสูงสุด 10 อันดับ
A3: ปีงบประมาณ พ.ศ. 2568 เดือนสิงหาคม 2568
B4: ผ่านแดนเข้า | G4: ผ่านแดนออก
A5: ลำดับ | B5: มูลค่าสินค้าผ่านแดน จาก สปป.ลาว ไปประเทศที่สาม | F5: ลำดับ | G5: มูลค่าสินค้าผ่านแดน จาก ประเทศที่สามไป สปป.ลาว
A6: ที่ | B6: ชนิดสินค้า | C6: พิกัด | D6: น้ำหนัก (ตัน) | E6: มูลค่า (บาท) | F6: ที่ | G6: ชนิดสินค้า | H6: พิกัด | I6: น้ำหนัก (ตัน) | J6: มูลค่า (บาท)
A7: 1 | B7: เมล็ดกาแฟดิบ | C7: 0901' | D7: 95.142 | E7: 16519431 | F7: 1 | G7: รถยนต์ใหม่ | H7: 8703 | I7: 28.245 | J7: 21376819
A8: 2 | B8: เนื้อปลาสวาย ฟิลเล แช่แข็ง | C8: 3046 | D8: 101.5 | E8: 11505925 | F8: 2 | G8: อุปกรณ์ต่างๆสำหรับระบบไฮดรอลิค | H8: 8547 | I8: 18.69 | J8: 7189385.5
A9: 3 | B9: ผักอบแห้ง | C9: 7122 | D9: 11.914 | E9: 1941967.4 | F9: 3 | G9: พีทมอส | H9: 2703 | I9: 471.56 | J9: 6411764
A10: 4 | B10: ชุดฟันดาบญี่ปุ่น | C10: 6211 | D10: 1.4646 | E10: 1785092.4 | F10: 4 | G10: ตลับลูกปืนนำร่องของกังหัน เป็นส่วนประกอบสำคัญในระบบกังหัน ใช้ในงานเขื่อนไฟฟ้า | H10: 8410 | I10: 4.434 | J10: 3744580.4
A11: 5 | B11: แป้งมันสำปะหลัง | C11: 1108 | D11: 95.25 | E11: 1418537 | F11: 5 | G11: เครื่องมือช่างต่างๆ สว่าน,ไขควง,ฆ้อน,เครื่องเจียร,เลื่อย และเครื่องมือเครื่องใช้ต่างๆในบ้าน | H11: 8205 | I11: 20.99795 | J11: 3727983
A12: 6 | B12: ถ่านขาวอัดแท่ง | C12: 4402 | D12: 24.986 | E12: 96359.885 | F12: 6 | G12: มอลต์ | H12: 1107 | I12: 193.54 | J12: 3187762.8
F13: 7 | G13: รถยนต์ใหม่ | H13: 8702 | I13: 7.9 | J13: 3061842.4
F14: 8 | G14: อุปกรณ์เสริมจักรยานอะไหล่ | H14: 8414 | I14: 25.18 | J14: 2947409
F15: 9 | G15: ยางรถแทรกเตอร์ | H15: 4011 | I15: 69.371 | J15: 2732832.3
F16: 10 | G16: เครื่องกำเนิดไฟฟ้าและอุปกรณ์ต่างๆ | H16: 8502 | I16: 11.064 | J16: 2591430.6
A17: รวมสินค้าผ่านแดนขาเข้า 10 อันดับ | D17: =SUM(D7:D16) -> 330.2566 | E17: =SUM(E7:E16) -> 33267313 | F17: รวมสินค้าผ่านแดนขาออก 10 อันดับ | I17: =SUM(I7:I16) -> 850.98195 | J17: =SUM(J7:J16) -> 56971809
A18: อื่นๆ | D18: - | E18: - | F18: อื่นๆ | I18: 827.8589 | J18: 28340363
A19: รวมทั้งสิ้น | D19: =D17 -> 330.2566 | E19: =E17 -> 33267313 | F19: รวมทั้งสิ้น | I19: =SUM(I17:I18) -> 1678.8408 | J19: =SUM(J17:J18) -> 85312172
A20: จำนวนใบขนผ่านแดนเข้า 7 ฉบับ จำนวนรถบรรทุก 7 คัน | F20: จำนวนใบขนผ่านแดนออก 61 ฉบับ จำนวนรถบรรทุก 96 คัน
A22: รวมสินค้าผ่านแดนขาเข้า 10 อันดับ | D22: 4261.5293 | E22: 8.7236404e+08 | F22: รวมสินค้าผ่านแดนขาออก 10 อันดับ | I22: 7926.3625 | J22: 1.2931897e+09
A23: อื่นๆ | D23: 417.9162 | E23: 13803307 | F23: อื่นๆ | I23: 16578.989 | J23: 1.0880486e+09
A24: รวมทั้งสิ้น | D24: 4679.4455 | E24: 8.8616734e+08 | F24: รวมทั้งสิ้น | I24: 24505.352 | J24: 2.3812383e+09
D26: =D19+D24 -> 5009.7021 | E26: =E19+E24 -> 9.1943466e+08 | I26: =I24+I19 -> 26184.193 | J26: =J24+J19 -> 2.4665505e+09
A30: ด่านศุลกากรช่องเม็ก
A31: มูลค่าสินค้าผ่านแดนสูงสุด 10 อันดับ
A32: ปีงบประมาณ พ.ศ. 2568 เดือนตุลาคม-สิงหาคม 2568
B33: ผ่านแดนเข้า | G33: ผ่านแดนออก
A34: ลำดับ | B34: มูลค่าสินค้าผ่านแดน จาก สปป.ลาว ไปประเทศที่สาม | F34: ลำดับ | G34: มูลค่าสินค้าผ่านแดน จาก ประเทศที่สามไป สปป.ลาว
A35: ที่ | B35: ชนิดสินค้า | C35: พิกัด | D35: น้ำหนัก (ตัน) | E35: มูลค่า (บาท) | F35: ที่ | G35: ชนิดสินค้า | H35: พิกัด | I35: น้ำหนัก (ตัน) | J35: มูลค่า (บาท)
A36: 1 | B36: เมล็ดกาแฟดิบ | C36: 0901' | D36: 3162.2096 | E36: 7.3432494e+08 | F36: 1 | G36: บุหรี่ | H36: 2402 | I36: 1482.2901 | J36: 6.0355494e+08
A37: 2 | B37: ขิงแห้ง | C37: 9101 | D37: 78.7745 | E37: 45650580 | F37: 2 | G37: รถยนต์ใหม่ | H37: 8702, 8703 | I37: 238.56 | J37: 1.4977581e+08
A38: 3 | B38: สมุนไพร | C38: 9061 | D38: 47.2545 | E38: 27502328 | F38: 3 | G38: ส่วนประกอบของ โรเตอร์ (ROTOR) ในเครื่องกำเนิดไฟฟ้า | H38: 8503 | I38: 201.285 | J38: 1.2900305e+08
A39: 4 | B39: ยาเส้นพร้อมปลอก | C39: 2401 | D39: 30.70314 | E39: 20289506 | F39: 4 | G39: รถตัก(ล้อยาง) | H39: 8429 | I39: 801.149 | J39: 76484966
A40: 5 | B40: ชุดฟันดาบญี่ปุ่น | C40: 6211 | D40: 11.7854 | E40: 18233856 | F40: 5 | G40: มอลต์ | H40: 1107 | I40: 4284.776 | J40: 76127948
A41: 6 | B41: แป้งมันสำปะหลัง | C41: 1108 | D41: 845.05 | E41: 14269242 | F41: 6 | G41: เครื่องส่งสายไฟ | H41: 8445 | I41: 0.048 | J41: 68931840
A42: 7 | B42: รถผสมคอนกรีต | C42: 8705 | D42: 77 | E42: 11888575 | F42: 7 | G42: ส่วนประกอบของเครื่องควบคุมเรกูเลเตอร์ | H42: 8410 | I42: 237.2238 | J42: 63154074
A43: 8 | B43: เนื้อปลาสวาย ฟิลเล แช่แข็ง | C43: 3046 | D43: 101.5 | E43: 11505925 | F43: 8 | G43: เครื่องมือช่าง | H43: 8502 | I43: 635.49 | J43: 54735152
A44: 9 | B44: รถขุด | C44: 8429 | D44: 96.875 | E44: 9570300 | F44: 9 | G44: เครื่องกำเนิดไฟฟ้าหลัก หม้อแปลงเพิ่มแรงดัน ส่วนประกอบต่างๆ | H44: 8504 | I44: 275.197 | J44: 50661878
A45: 10 | B45: ผักอบแห้ง | C45: 7122 | D45: 60.8378 | E45: 8360826.4 | F45: 10 | G45: เครื่องตัดสายไฟ | H45: 8441 | I45: 0.0286 | J45: 48386480
A46: รวมสินค้าผ่านแดนขาเข้า 10 อันดับ | D46: =SUM(D36:D45) -> 4511.9899 | E46: =SUM(E36:E45) -> 9.0159608e+08 | F46: รวมสินค้าผ่านแดนขาออก 10 อันดับ | I46: =SUM(I36:I45) -> 8156.0475 | J46: =SUM(J36:J45) -> 1.3208161e+09
A47: อื่นๆ | D47: 497.7122 | E47: 17838582 | F47: อื่นๆ | I47: 18028.145 | J47: 1.1457343e+09
A48: รวมทั้งสิ้น | D48: =SUM(D46:D47) -> 5009.7021 | E48: =SUM(E46:E47) -> 9.1943466e+08 | F48: รวมทั้งสิ้น | I48: =SUM(I46:I47) -> 26184.193 | J48: =SUM(J46:J47) -> 2.4665505e+09
A49: จำนวนใบขนผ่านแดนเข้า 140 ฉบับ จำนวนรถบรรทุก 274 คัน | F49: จำนวนใบขนผ่านแดนออก 987 ฉบับ จำนวนรถบรรทุก 1,611 คัน
C50: =8+8+10+11+10+22+14+21+13+16+7 -> 140 | D50: =20+11+20+17+25+40+35+31+28+40+7 -> 274 | H50: =122+105+85+90+73+100+96+91+87+77+61 -> 987 | J50: =171+213+165+143+92+170+145+145+167+104+96 -> 1611

Sheet Sheet4
