Workbook

Sheet ขาออก มค.68
A1: ="ด่านศุลกากร"&[1]กรอกข้อมูล!B1 -> ด่านศุลกากรช่องเม็ก
A2: สินค้าส่งออกสูงสุด 10 อันดับ
A3: ="ปีงบประมาณ "&[1]กรอกข้อมูล!B2&" ("&[1]กรอกข้อมูล!C4&" "&[1]กรอกข้อมูล!D4&")" -> ปีงบประมาณ 2567 (มกราคม 2568)
A5: ลำดับที่ | B5: ชนิดสินค้า | C5: พิกัด | D5: น้ำหนัก (ตัน) | E5: มูลค่า (ล้านบาท)
A6: 1 | B6: น้ำมันเชื้อเพลิง (น้ำมันดีเชล,น้ำมันเบนซิน) | C6: =INDEX('[1]4หลัก-เดือน'!$A$2:$A$5001,MATCH($A6,'[1]4หลัก-เดือน'!$E$2:$E$5001,0)) -> 2710 | D6: =(INDEX('[1]4หลัก-เดือน'!$D$2:$D$5001,MATCH($A6,'[1]4หลัก-เดือน'!$E$2:$E$5001,0)))/1000 -> 21731.646 | E6: =(INDEX('[1]4หลัก-เดือน'!$B$2:$B$5001,MATCH($A6,'[1]4หลัก-เดือน'!$E$2:$E$5001,0)))/1000000 -> 630.15212
A7: 2 | B7: รถไถนา | C7: =INDEX('[1]4หลัก-เดือน'!$A$2:$A$5001,MATCH($A7,'[1]4หลัก-เดือน'!$E$2:$E$5001,0)) -> 8701 | D7: =(INDEX('[1]4หลัก-เดือน'!$D$2:$D$5001,MATCH($A7,'[1]4หลัก-เดือน'!$E$2:$E$5001,0)))/1000 -> 439.702 | E7: =(INDEX('[1]4หลัก-เดือน'!$B$2:$B$5001,MATCH($A7,'[1]4หลัก-เดือน'!$E$2:$E$5001,0)))/1000000 -> 94.517186
A8: 3 | B8: พลาสติก(บรรจุภัณฑ์และของใช้จากพลาสติก) | C8: =INDEX('[1]4หลัก-เดือน'!$A$2:$A$5001,MATCH($A8,'[1]4หลัก-เดือน'!$E$2:$E$5001,0)) -> 3923 | D8: =(INDEX('[1]4หลัก-เดือน'!$D$2:$D$5001,MATCH($A8,'[1]4หลัก-เดือน'!$E$2:$E$5001,0)))/1000 -> 1404.5154 | E8: =(INDEX('[1]4หลัก-เดือน'!$B$2:$B$5001,MATCH($A8,'[1]4หลัก-เดือน'!$E$2:$E$5001,0)))/1000000 -> 90.560209
A9: 4 | B9: นมกล่องและเครื่องดื่มอื่นๆ | C9: =INDEX('[1]4หลัก-เดือน'!$A$2:$A$5001,MATCH($A9,'[1]4หลัก-เดือน'!$E$2:$E$5001,0)) -> 2202 | D9: =(INDEX('[1]4หลัก-เดือน'!$D$2:$D$5001,MATCH($A9,'[1]4หลัก-เดือน'!$E$2:$E$5001,0)))/1000 -> 2078.5997 | E9: =(INDEX('[1]4หลัก-เดือน'!$B$2:$B$5001,MATCH($A9,'[1]4หลัก-เดือน'!$E$2:$E$5001,0)))/1000000 -> 71.748709
A10: 5 | B10: พลังงานไฟฟ้า | C10: =INDEX('[1]4หลัก-เดือน'!$A$2:$A$5001,MATCH($A10,'[1]4หลัก-เดือน'!$E$2:$E$5001,0)) -> 2716 | D10: =(INDEX('[1]4หลัก-เดือน'!$D$2:$D$5001,MATCH($A10,'[1]4หลัก-เดือน'!$E$2:$E$5001,0)))/1000 -> 0.003 | E10: =(INDEX('[1]4หลัก-เดือน'!$B$2:$B$5001,MATCH($A10,'[1]4หลัก-เดือน'!$E$2:$E$5001,0)))/1000000 -> 42.469693
A11: 6 | B11: ครีมเทียม | C11: =INDEX('[1]4หลัก-เดือน'!$A$2:$A$5001,MATCH($A11,'[1]4หลัก-เดือน'!$E$2:$E$5001,0)) -> 2106 | D11: =(INDEX('[1]4หลัก-เดือน'!$D$2:$D$5001,MATCH($A11,'[1]4หลัก-เดือน'!$E$2:$E$5001,0)))/1000 -> 377.93969 | E11: =(INDEX('[1]4หลัก-เดือน'!$B$2:$B$5001,MATCH($A11,'[1]4หลัก-เดือน'!$E$2:$E$5001,0)))/1000000 -> 29.904152
A12: 7 | B12: รถยนต์ | C12: =INDEX('[1]4หลัก-เดือน'!$A$2:$A$5001,MATCH($A12,'[1]4หลัก-เดือน'!$E$2:$E$5001,0)) -> 8703 | D12: =(INDEX('[1]4หลัก-เดือน'!$D$2:$D$5001,MATCH($A12,'[1]4หลัก-เดือน'!$E$2:$E$5001,0)))/1000 -> 70.585 | E12: =(INDEX('[1]4หลัก-เดือน'!$B$2:$B$5001,MATCH($A12,'[1]4หลัก-เดือน'!$E$2:$E$5001,0)))/1000000 -> 29.226549
A13: 8 | B13: ซอสปรุงรส | C13: =INDEX('[1]4หลัก-เดือน'!$A$2:$A$5001,MATCH($A13,'[1]4หลัก-เดือน'!$E$2:$E$5001,0)) -> 2103 | D13: =(INDEX('[1]4หลัก-เดือน'!$D$2:$D$5001,MATCH($A13,'[1]4หลัก-เดือน'!$E$2:$E$5001,0)))/1000 -> 391.59766 | E13: =(INDEX('[1]4หลัก-เดือน'!$B$2:$B$5001,MATCH($A13,'[1]4หลัก-เดือน'!$E$2:$E$5001,0)))/1000000 -> 27.120846
A14: 9 | B14: ขนมอบกรอบ | C14: =INDEX('[1]4หลัก-เดือน'!$A$2:$A$5001,MATCH($A14,'[1]4หลัก-เดือน'!$E$2:$E$5001,0)) -> 1905 | D14: =(INDEX('[1]4หลัก-เดือน'!$D$2:$D$5001,MATCH($A14,'[1]4หลัก-เดือน'!$E$2:$E$5001,0)))/1000 -> 197.5011 | E14: =(INDEX('[1]4หลัก-เดือน'!$B$2:$B$5001,MATCH($A14,'[1]4หลัก-เดือน'!$E$2:$E$5001,0)))/1000000 -> 26.570536
A15: 10 | B15: นมผง | C15: =INDEX('[1]4หลัก-เดือน'!$A$2:$A$5001,MATCH($A15,'[1]4หลัก-เดือน'!$E$2:$E$5001,0)) -> 1901 | D15: =(INDEX('[1]4หลัก-เดือน'!$D$2:$D$5001,MATCH($A15,'[1]4หลัก-เดือน'!$E$2:$E$5001,0)))/1000 -> 101.27303 | E15: =(INDEX('[1]4หลัก-เดือน'!$B$2:$B$5001,MATCH($A15,'[1]4หลัก-เดือน'!$E$2:$E$5001,0)))/1000000 -> 26.565637
B16: รวม | D16: =SUM(D6:D15) -> 26793.362 | E16: =SUM(E6:E15) -> 1068.8356
B17: อื่น ๆ | D17: =+D18-D16 -> 20345.528 | E17: =+E18-E16 -> 583.83436
B18: รวมทั้งหมด | D18: =ROUND((SUM('[1]CISขาออก-เดือน'!E2:E5001)/1000),2) -> 47138.89 | E18: =ROUND((SUM('[1]CISขาออก-เดือน'!C2:C5001)/1000000),2) -> 1652.67
B20: จำนวนใบขนสินค้าขาออก | C20: 2102 | D20: ฉบับ

Sheet ออก ตค- มค 68
A1: ="ด่านศุลกากร"&[1]กรอกข้อมูล!B1 -> ด่านศุลกากรช่องเม็ก
A2: สินค้าส่งออกสูงสุด 10 อันดับ
A3: ="ปีงบประมาณ "&[1]กรอกข้อมูล!B2&" วันที่ "&[1]กรอกข้อมูล!B3&" "&[1]กรอกข้อมูล!C3&" "&[1]กรอกข้อมูล!D3&" ถึง "&[1]กรอกข้อมูล!B4&" "&[1]กรอกข้อมูล!C4&" "&[1]กรอกข้อมูล!D4 -> ปีงบประมาณ 2567 วันที่ 1 ตุลาคม 2567 ถึง 31 มกราคม 2568
B4: ="ปีงบประมาณ "&[1]กรอกข้อมูล!B2&" วันที่ "&[1]กรอกข้อมูล!B3&" "&[1]กรอกข้อมูล!C3&" "&[1]กรอกข้อมูล!D3&" ถึง "&[1]กรอกข้อมูล!B4&" "&[1]กรอกข้อมูล!C4&" "&[1]กรอกข้อมูล!D4 -> ปีงบประมาณ 2567 วันที่ 1 ตุลาคม 2567 ถึง 31 มกราคม 2568
A5: ลำดับที่ | B5: ชนิดสินค้า | C5: พิกัด | D5: น้ำหนัก (ตัน) | E5: มูลค่า (ล้านบาท)
A6: 1 | B6: น้ำมันเชื้อเพลิง (น้ำมันดีเชล,น้ำมันเบนซิน) | C6: =INDEX('[1]4หลัก-ปีงบ'!$A$2:$A$5001,MATCH($A6,'[1]4หลัก-ปีงบ'!$E$2:$E$5001,0)) -> 2710 | D6: =(INDEX('[1]4หลัก-ปีงบ'!$D$2:$D$5001,MATCH($A6,'[1]4หลัก-ปีงบ'!$E$2:$E$5001,0)))/1000 -> 71310.661 | E6: =(INDEX('[1]4หลัก-ปีงบ'!$B$2:$B$5001,MATCH($A6,'[1]4หลัก-ปีงบ'!$E$2:$E$5001,0)))/1000000 -> 2004.0381
A7: 2 | B7: พลาสติก(บรรจุภัณฑ์และของใช้จากพลาสติก) | C7: =INDEX('[1]4หลัก-ปีงบ'!$A$2:$A$5001,MATCH($A7,'[1]4หลัก-ปีงบ'!$E$2:$E$5001,0)) -> 3923 | D7: =(INDEX('[1]4หลัก-ปีงบ'!$D$2:$D$5001,MATCH($A7,'[1]4หลัก-ปีงบ'!$E$2:$E$5001,0)))/1000 -> 5900.1704 | E7: =(INDEX('[1]4หลัก-ปีงบ'!$B$2:$B$5001,MATCH($A7,'[1]4หลัก-ปีงบ'!$E$2:$E$5001,0)))/1000000 -> 382.58874
A8: 3 | B8: รถไถนา | C8: =INDEX('[1]4หลัก-ปีงบ'!$A$2:$A$5001,MATCH($A8,'[1]4หลัก-ปีงบ'!$E$2:$E$5001,0)) -> 8701 | D8: =(INDEX('[1]4หลัก-ปีงบ'!$D$2:$D$5001,MATCH($A8,'[1]4หลัก-ปีงบ'!$E$2:$E$5001,0)))/1000 -> 1222.592 | E8: =(INDEX('[1]4หลัก-ปีงบ'!$B$2:$B$5001,MATCH($A8,'[1]4หลัก-ปีงบ'!$E$2:$E$5001,0)))/1000000 -> 282.11318
A9: 4 | B9: รถยนต์ | C9: =INDEX('[1]4หลัก-ปีงบ'!$A$2:$A$5001,MATCH($A9,'[1]4หลัก-ปีงบ'!$E$2:$E$5001,0)) -> 8703 | D9: =(INDEX('[1]4หลัก-ปีงบ'!$D$2:$D$5001,MATCH($A9,'[1]4หลัก-ปีงบ'!$E$2:$E$5001,0)))/1000 -> 507.893 | E9: =(INDEX('[1]4หลัก-ปีงบ'!$B$2:$B$5001,MATCH($A9,'[1]4หลัก-ปีงบ'!$E$2:$E$5001,0)))/1000000 -> 218.12853
A10: 5 | B10: นมกล่องและเครื่องดื่มอื่นๆ | C10: =INDEX('[1]4หลัก-ปีงบ'!$A$2:$A$5001,MATCH($A10,'[1]4หลัก-ปีงบ'!$E$2:$E$5001,0)) -> 2202 | D10: =(INDEX('[1]4หลัก-ปีงบ'!$D$2:$D$5001,MATCH($A10,'[1]4หลัก-ปีงบ'!$E$2:$E$5001,0)))/1000 -> 6083.3409 | E10: =(INDEX('[1]4หลัก-ปีงบ'!$B$2:$B$5001,MATCH($A10,'[1]4หลัก-ปีงบ'!$E$2:$E$5001,0)))/1000000 -> 216.76001
A11: 6 | B11: น้ำผลไม้ | C11: =INDEX('[1]4หลัก-ปีงบ'!$A$2:$A$5001,MATCH($A11,'[1]4หลัก-ปีงบ'!$E$2:$E$5001,0)) -> 2009 | D11: =(INDEX('[1]4หลัก-ปีงบ'!$D$2:$D$5001,MATCH($A11,'[1]4หลัก-ปีงบ'!$E$2:$E$5001,0)))/1000 -> 2373.6719 | E11: =(INDEX('[1]4หลัก-ปีงบ'!$B$2:$B$5001,MATCH($A11,'[1]4หลัก-ปีงบ'!$E$2:$E$5001,0)))/1000000 -> 146.21598
A12: 7 | B12: ครีมเทียม | C12: =INDEX('[1]4หลัก-ปีงบ'!$A$2:$A$5001,MATCH($A12,'[1]4หลัก-ปีงบ'!$E$2:$E$5001,0)) -> 2106 | D12: =(INDEX('[1]4หลัก-ปีงบ'!$D$2:$D$5001,MATCH($A12,'[1]4หลัก-ปีงบ'!$E$2:$E$5001,0)))/1000 -> 1818.2867 | E12: =(INDEX('[1]4หลัก-ปีงบ'!$B$2:$B$5001,MATCH($A12,'[1]4หลัก-ปีงบ'!$E$2:$E$5001,0)))/1000000 -> 121.36731
A13: 8 | B13: ผงชูรส | C13: =INDEX('[1]4หลัก-ปีงบ'!$A$2:$A$5001,MATCH($A13,'[1]4หลัก-ปีงบ'!$E$2:$E$5001,0)) -> 2922 | D13: =(INDEX('[1]4หลัก-ปีงบ'!$D$2:$D$5001,MATCH($A13,'[1]4หลัก-ปีงบ'!$E$2:$E$5001,0)))/1000 -> 1236.2725 | E13: =(INDEX('[1]4หลัก-ปีงบ'!$B$2:$B$5001,MATCH($A13,'[1]4หลัก-ปีงบ'!$E$2:$E$5001,0)))/1000000 -> 107.58916
A14: 9 | B14: ขนมอบกรอบ | C14: =INDEX('[1]4หลัก-ปีงบ'!$A$2:$A$5001,MATCH($A14,'[1]4หลัก-ปีงบ'!$E$2:$E$5001,0)) -> 1905 | D14: =(INDEX('[1]4หลัก-ปีงบ'!$D$2:$D$5001,MATCH($A14,'[1]4หลัก-ปีงบ'!$E$2:$E$5001,0)))/1000 -> 802.85099 | E14: =(INDEX('[1]4หลัก-ปีงบ'!$B$2:$B$5001,MATCH($A14,'[1]4หลัก-ปีงบ'!$E$2:$E$5001,0)))/1000000 -> 100.60733
A15: 10 | B15: ซอสปรุงรส | C15: =INDEX('[1]4หลัก-ปีงบ'!$A$2:$A$5001,MATCH($A15,'[1]4หลัก-ปีงบ'!$E$2:$E$5001,0)) -> 2103 | D15: =(INDEX('[1]4หลัก-ปีงบ'!$D$2:$D$5001,MATCH($A15,'[1]4หลัก-ปีงบ'!$E$2:$E$5001,0)))/1000 -> 1518.6908 | E15: =(INDEX('[1]4หลัก-ปีงบ'!$B$2:$B$5001,MATCH($A15,'[1]4หลัก-ปีงบ'!$E$2:$E$5001,0)))/1000000 -> 99.230202
B16: รวม | D16: =SUM(D6:D15) -> 92774.43 | E16: =SUM(E6:E15) -> 3678.6385
B17: อื่น ๆ | D17: =+D18-D16 -> 61963.56 | E17: =+E18-E16 -> 2201.8515
B18: รวมทั้งหมด | D18: =ROUND((SUM('[1]CISขาออก-ปีงบ'!E2:E5001)/1000),2) -> 154737.99 | E18: =ROUND((SUM('[1]CISขาออก-ปีงบ'!C2:C5001)/1000000),2) -> 5880.49
B20: จำนวนใบขนสินค้าขาออก | C20: 7411 | D20: ฉบับ

Sheet ขาเข้า มค.68
A1: มูลค่าสินค้านำเข้าสูงสุด 10 อันดับ
A2: ประจำปีงบประมาณ 2568 (มกราคม 2568)
A3: ด่านศุลกากรช่องเม็ก
A4: ลำดับ | B4: พิกัด | C4: ชนิดสินค้า | D4: น้ำหนัก (กิโลกรัม) | E4: มูลค่าการนำเข้า (บาท) | F4: ภาษีมูลค่าเพิ่ม (บาท)
A5: 1 | B5: 7141011 | C5: มันสำปะหลัง (มันเส้น) | D5: 286226000 | E5: 1.6451802e+09 | F5: -
A6: 2 | B6: 9011120 | C6: เมล็ดกาแฟดิบอะราบิก้า | D6: 1664500 | E6: 2.450883e+08 | F6: -
A7: 3 | B7: 27160000 | C7: พลังงานไฟฟ้า | D7: 3 | E7: 2.0617853e+08 | F7: 14432497
A8: 4 | B8: 9011130 | C8: เมล็ดกาแฟดิบโรบัสต้า | D8: 580000 | E8: 63113595 | F8: -
A9: 5 | B9: 7141099 | C9: มันสำปะหลัง (หัวมันสด) | D9: 30000000 | E9: 57515427 | F9: -
A10: 6 | B10: 85443014 | C10: ชุดสายไฟ | D10: 5863.98 | E10: 21959547 | F10: 215943.57
A11: 7 | B11: 8134020 | C11: มะขามเปียก | D11: 533900 | E11: 17400909 | F11: -
A12: 8 | B12: 8039090 | C12: กล้วยดิบ | D12: 1631561 | E12: 17101346 | F12: -
A13: 9 | B13: 11081400 | C13: แป้งมันสำปะหลัง | D13: 1481600 | E13: 14955108 | F13: 1046857.6
A14: 10 | B14: 84291100 | C14: รถแทรกเตอร์ตีนตะขาบ* | D14: 49080 | E14: 8686591.2 | F14: -
A15: รวม 10 อันดับ | D15: =SUM(D5:D14) -> 3.2217251e+08 | E15: =SUM(E5:E14) -> 2.2971796e+09 | F15: =SUM(F5:F14) -> 15695298
A16: อื่น ๆ | D16: =D17-D15 -> 1009557.6 | E16: =E17-E15 -> 26852226 | F16: =F17-F15 -> 317252.01
A17: รวมทั้งสิ้น | D17: 3.2318207e+08 | E17: 2.3240318e+09 | F17: 16012550
A18: ข้อมูลตามวันที่ตรวจปล่อย ณ วันที่ 4 กุมภาพันธ์ 2568
A19: * หมายถึง ใบขนสินค้าขาเข้าใช้สิทธิประโยชน์สุทธินำกลับ

Sheet เข้า ตค.-มค.68
A1: มูลค่าสินค้านำเข้าสูงสุด 10 อันดับ
A2: ประจำปีงบประมาณ 2568 (ตุลาคม 2567 - มกราคม 2568)
A3: ด่านศุลกากรช่องเม็ก
A4: ลำดับ | B4: พิกัด | C4: ชนิดสินค้า | D4: น้ำหนัก (กิโลกรัม) | E4: มูลค่าการนำเข้า (บาท) | F4: ภาษีมูลค่าเพิ่ม (บาท)
A5: 1 | B5: 7141011 | C5: มันสำปะหลัง (มันเส้น) | D5: 377498000 | E5: 2.1678975e+09 | F5: 0
A6: 2 | B6: 27160000 | C6: พลังงานไฟฟ้า | D6: 12 | E6: 1.8206713e+09 | F6: 1.2744699e+08
A7: 3 | B7: 9011120 | C7: เมล็ดกาแฟดิบอะราบิก้า | D7: 4723500 | E7: 7.1035139e+08 | F7: 0
A8: 4 | B8: 7141099 | C8: มันสำปะหลัง (หัวมันสด) | D8: 82573000 | E8: 1.5733791e+08 | F8: 0
A9: 5 | B9: 09011130 | C9: เมล็ดกาแฟดิบโรบัสต้า | D9: 1282400 | E9: 1.3010593e+08 | F9: 0
A10: 6 | B10: 07049010 | C10: กะหล่ำปลีชนิดกลม | D10: 6130700 | E10: 96548939 | F10: 0
A11: 7 | B11: 08039090 | C11: กล้วยดิบ | D11: 8653073 | E11: 87271527 | F11: 0
A12: 8 | B12: 85443014 | C12: ชุดสายไฟ | D12: 24806.88 | E12: 84575700 | F12: 1333516
A13: 9 | B13: 08109094 | C13: เสาวรส(ผลสด) | D13: 1065000 | E13: 26295563 | F13: 0
A14: 10 | B14: 08134020 | C14: มะขามเปียก | D14: 533900 | E14: 17400909 | F14: 0
A15: รวม 10 อันดับ | D15: =SUM(D5:D14) -> 4.8248439e+08 | E15: =SUM(E5:E14) -> 5.2984566e+09 | F15: =SUM(F5:F14) -> 1.2878051e+08
A16: อื่น ๆ | D16: =D17-D15 -> 4210086.5 | E16: =E17-E15 -> 1.5200867e+08 | F16: =F17-F15 -> 3153398.5
A17: รวมทั้งสิ้น | D17: 4.8669448e+08 | E17: 5.4504653e+09 | F17: 1.319339e+08
A18: ข้อมูลตามวันที่ตรวจปล่อย ณ วันที่ 4 กุมภาพันธ์ 2568

Sheet ผด. มค.68
A1: ด่านศุลกากรช่องเม็ก
A2: มูลค่าสินค้าผ่านแดนสูงสุด 10 อันดับ
A3: ปีงบประมาณ พ.ศ. 2568 เดือนมกราคม 2568
B4: ผ่านแดนเข้า | G4: ผ่านแดนออก
A5: ลำดับ | B5: มูลค่าสินค้าผ่านแดน จาก สปป.ลาว ไปประเทศที่สาม | F5: ลำดับ | G5: มูลค่าสินค้าผ่านแดน จาก ประเทศที่สามไป สปป.ลาว
A6: ที่ | B6: ชนิดสินค้า | C6: พิกัด | D6: น้ำหนัก (ตัน) | E6: มูลค่า (บาท) | F6: ที่ | G6: ชนิดสินค้า | H6: พิกัด | I6: น้ำหนัก (ตัน) | J6: มูลค่า (บาท)
A7: 1 | B7: เมล็ดกาแฟดิบ | C7: 0901 | D7: 210.4756 | E7: 45936584 | F7: 1 | G7: รถขุดไฮดรอลิกชิ้นส่วนรถขุด(เก่าใช้แล้ว) | H7: 8429 | I7: 133.995 | J7: 49788000
A8: 2 | B8: แป้งมันสําปะหลัง | C8: 1108 | D8: 90.25 | E8: 1839255 | F8: 2 | G8: เครื่องกำเนิดไฟฟ้าหลัก หม้อแปลงเพิ่มแรงดัน ส่วนประกอบต่างๆ | H8: 8504 | I8: 254.847 | J8: 43429335
A9: 3 | B9: ชัน | C9: 1301 | D9: 28.112 | E9: 145068 | F9: 3 | G9: บุหรี่ | H9: 2402 | I9: 77.9625 | J9: 33533136
A10: 4 | B10: เครื่องจักรสีกาแฟดิบพร้อมอุปกรณ์ | C10: 8437 | D10: 1.255 | E10: 103620 | F10: 4 | G10: ส่วนประกอบของเครื่องควบคุมเรกูเลเตอร์ | H10: 8410 | I10: 54.92 | J10: 27150649
F11: 5 | G11: อีพอกไซด์เรซิน ในลักษณะเป็นของเหลวหรือเพสต์ | H11: 3907 | I11: 5.0655 | J11: 9420395.5
F12: 6 | G12: เครื่องกลั่นน้ำเเละ อุปกรณ์ทางการแพทย์ | H12: 8419 | I12: 19.92785 | J12: 8598751.8
F13: 7 | G13: อุปกรณ์ทางการแพท | H13: 9018 | I13: 39.5436 | J13: 7188278.8
F14: 8 | G14: มอลต์ | H14: 1107 | I14: 367.97 | J14: 6986990.2
F15: 9 | G15: เครื่องประมวลผลและอุปกรณ์อิเล็กทรอนิกส์อื่นๆ | H15: 8471 | I15: 0.484 | J15: 4746016.9
F16: 10 | G16: ลูกอม เยลลี่ และสินค้าอื่นๆ | H16: 1704 | I16: 141.1221 | J16: 4183239.5
A17: รวมสินค้าผ่านแดนขาเข้า 10 อันดับ | D17: =SUM(D7:D16) -> 330.0926 | E17: =SUM(E7:E16) -> 48024527 | F17: รวมสินค้าผ่านแดนขาออก 10 อันดับ | I17: =SUM(I7:I16) -> 1095.8375 | J17: =SUM(J7:J16) -> 1.9502479e+08
A18: อื่นๆ | D18: - | E18: - | F18: อื่นๆ | I18: 1401.5649 | J18: 70892474
A19: รวมทั้งสิ้น | D19: =D17 -> 330.0926 | E19: =E17 -> 48024527 | F19: รวมทั้งสิ้น | I19: =SUM(I17:I18) -> 2497.4025 | J19: =SUM(J17:J18) -> 2.6591727e+08
A20: จำนวนใบขนผ่านแดนเข้า 11 ฉบับ จำนวนรถบรรทุก 17 คัน | F20: จำนวนใบขนผ่านแดนออก 90 ฉบับ จำนวนรถบรรทุก 143 คัน
A22: รวมสินค้าผ่านแดนขาเข้า 10 อันดับ | D22: 825.6005 | E22: 1.1578614e+08 | F22: รวมสินค้าผ่านแดนขาออก 10 อันดับ | I22: 4261.3768 | J22: 3.1416998e+08
A23: อื่นๆ | D23: 78.977 | E23: 795615.64 | F23: อื่นๆ | I23: 4678.1075 | J23: 1.6569412e+08
A24: รวมทั้งสิ้น | D24: 904.5775 | E24: 1.1658176e+08 | F24: รวมทั้งสิ้น | I24: 8939.4843 | J24: 4.798641e+08
D26: =D19+D24 -> 1234.6701 | E26: =E19+E24 -> 1.6460628e+08 | I26: =I24+I19 -> 11436.887 | J26: =J24+J19 -> 7.4578137e+08
A30: ด่านศุลกากรช่องเม็ก
A31: มูลค่าสินค้าผ่านแดนสูงสุด 10 อันดับ
A32: ปีงบประมาณ พ.ศ. 2568 เดือนตุลาคม-มกราคม 2568
B33: ผ่านแดนเข้า | G33: ผ่านแดนออก
A34: ลำดับ | B34: มูลค่าสินค้าผ่านแดน จาก สปป.ลาว ไปประเทศที่สาม | F34: ลำดับ | G34: มูลค่าสินค้าผ่านแดน จาก ประเทศที่สามไป สปป.ลาว
A35: ที่ | B35: ชนิดสินค้า | C35: พิกัด | D35: น้ำหนัก (ตัน) | E35: มูลค่า (บาท) | F35: ที่ | G35: ชนิดสินค้า | H35: พิกัด | I35: น้ำหนัก (ตัน) | J35: มูลค่า (บาท)
A36: 1 | B36: เมล็ดกาแฟดิบ | C36: 0901 | D36: 582.3496 | E36: 1.1491073e+08 | F36: 1 | G36: บุหรี่ | H36: 2402 | I36: 312.1226 | J36: 115493742
A37: 2 | B37: รถขุด | C37: 8429 | D37: 96.875 | E37: 9570300 | F37: 2 | G37: รถตัก(ล้อยาง) | H37: 8429 | I37: 801.149 | J37: 76484966
A38: 3 | B38: อบเชย และสมุนไพรอบแห้งอื่นๆ | C38: 9061 | D38: 17.6013 | E38: 7630950.8 | F38: 3 | G38: ส่วนประกอบของเครื่องควบคุมเรกูเลเตอร์ | H38: 8410 | I38: 237.2238 | J38: 63154074
A39: 4 | B39: ชุดฟันดาบญี่ปุ่น | C39: 6211 | D39: 4.5782 | E39: 7210158.5 | F39: 4 | G39: เครื่องมือช่าง | H39: 8502 | I39: 635.49 | J39: 54735152
A40: 5 | B40: รถปั๊มคอนกรีต | C40: 8705 | D40: 32.5 | E40: 5843804.6 | F40: 5 | G40: เครื่องกำเนิดไฟฟ้าหลัก หม้อแปลงเพิ่มแรงดัน ส่วนประกอบต่างๆ | H40: 8504 | I40: 254.847 | J40: 43429335
A41: 6 | B41: แป้งมันสําปะหลัง | C41: 1108 | D41: 270.75 | E41: 5472502.5 | F41: 6 | G41: มอลต์ | H41: 1107 | I41: 1930.336 | J41: 31968992
A42: 7 | B42: ยาเส้นพร้อมปลอก | C42: 2401 | D42: 8.2308 | E42: 5274732.1 | F42: 7 | G42: ยางรถแทรกเตอร์และสินค้าอื่นๆ | H42: 4011 | I42: 582.986 | J42: 22431519
A43: 8 | B43: รถดั้มพ์ พร้อมอุปกรณ์ | C43: 8704 | D43: 54.81 | E43: 3938915.2 | F43: 8 | G43: ระบบทำความเย็น | H43: 8418 | I43: 123.348 | J43: 20944220
A44: 9 | B44: ผักอบแห้ง | C44: 7122 | D44: 11.5312 | E44: 2315441.7 | F44: 9 | G44: เครื่องมือช่าง | H44: 8205 | I44: 109.81694 | J44: 18086539
A45: 10 | B45: ข้าวเหนียว 5% | C45: 10063030 | D45: 47.1 | E45: 1394448 | F45: 10 | G45: สายไฟ | H45: 8544 | I45: 140.167 | J45: 14897274
A46: รวมสินค้าผ่านแดนขาเข้า 10 อันดับ | D46: =SUM(D36:D45) -> 1126.3261 | E46: =SUM(E36:E45) -> 1.6356198e+08 | F46: รวมสินค้าผ่านแดนขาออก 10 อันดับ | I46: =SUM(I36:I45) -> 5127.4863 | J46: =SUM(J36:J45) -> 4.6162581e+08
A47: อื่นๆ | D47: 108.344 | E47: 1044303.6 | F47: อื่นๆ | I47: 6309.4005 | J47: 2.8415556e+08
A48: รวมทั้งสิ้น | D48: =SUM(D46:D47) -> 1234.6701 | E48: =SUM(E46:E47) -> 1.6460628e+08 | F48: รวมทั้งสิ้น | I48: =SUM(I46:I47) -> 11436.887 | J48: =SUM(J46:J47) -> 7.4578137e+08
A49: จำนวนใบขนผ่านแดนเข้า 37 ฉบับ จำนวนรถบรรทุก 68 คัน | F49: จำนวนใบขนผ่านแดนออก 402 ฉบับ จำนวนรถบรรทุก 692 คัน
C50: =8+8+10+11 -> 37 | D50: =20+11+20+17 -> 68 | H50: =122+105+85+90 -> 402 | J50: =171+213+165+143 -> 692
A55: 1 | B55: เมล็ดกาแฟดิบ | C55: 0901 | D55: 288.891 | E55: 52109276
A56: 2 | B56: รถขุด | C56: 8429 | D56: 96.875 | E56: 9570300
A57: 3 | B57: รถปั๊มคอนกรีต | C57: 8705 | D57: 32.5 | E57: 5882342.9
A58: 4 | B58: ชุดฟันดาบญี่ปุ่น | C58: 6211 | D58: 2.2919 | E58: 3393584.7
A59: 5 | B59: ผักอบแห้ง | C59: 7122 | D59: 11.5312 | E59: 2315441.7
A60: 6 | B60: แป้งมันสําปะหลัง | C60: 1108 | D60: 90.25 | E60: 1788135
A61: 7 | B61: ยาเส้นพร้อมปลอก | C61: 2401 | D61: 2.3596 | E61: 1613905.2
A62: 8 | B62: ข้าวเหนียว 5% | C62: 10063030 | D62: 47.1 | E62: 1403644
A63: 9 | B63: ถ่านขาวอัดแท่ง | C63: 4402 | D63: 24.986 | E63: 99682.23
A65: รวมสินค้าผ่านแดนขาเข้า 10 อันดับ | D65: 596.7847 | E65: 78176312
A66: อื่นๆ | D66: - | E66: -
A67: รวมทั้งสิ้น | D67: 596.7847 | E67: 78176312
