Workbook

Sheet ขาออก ธค.67
A1: ="ด่านศุลกากร"&[1]กรอกข้อมูล!B1 -> ด่านศุลกากรช่องเม็ก
A2: สินค้าส่งออกสูงสุด 10 อันดับ
A3: ="ปีงบประมาณ "&[1]กรอกข้อมูล!B2&" ("&[1]กรอกข้อมูล!C4&" "&[1]กรอกข้อมูล!D4&")" -> ปีงบประมาณ 2567 (ธันวาคม 2567)
A5: ลำดับที่ | B5: ชนิดสินค้า | C5: พิกัด | D5: น้ำหนัก (ตัน) | E5: มูลค่า (ล้านบาท)
A6: 1 | B6: น้ำมันเชื้อเพลิง (น้ำมันดีเชล,น้ำมันเบนซิน) | C6: =INDEX('[1]4หลัก-เดือน'!$A$2:$A$5001,MATCH($A6,'[1]4หลัก-เดือน'!$E$2:$E$5001,0)) -> 2710 | D6: =(INDEX('[1]4หลัก-เดือน'!$D$2:$D$5001,MATCH($A6,'[1]4หลัก-เดือน'!$E$2:$E$5001,0)))/1000 -> 20324.933 | E6: =(INDEX('[1]4หลัก-เดือน'!$B$2:$B$5001,MATCH($A6,'[1]4หลัก-เดือน'!$E$2:$E$5001,0)))/1000000 -> 583.21698
A7: 2 | B7: พลาสติก(บรรจุภัณฑ์และของใช้จากพลาสติก) | C7: =INDEX('[1]4หลัก-เดือน'!$A$2:$A$5001,MATCH($A7,'[1]4หลัก-เดือน'!$E$2:$E$5001,0)) -> 3923 | D7: =(INDEX('[1]4หลัก-เดือน'!$D$2:$D$5001,MATCH($A7,'[1]4หลัก-เดือน'!$E$2:$E$5001,0)))/1000 -> 1505.4059 | E7: =(INDEX('[1]4หลัก-เดือน'!$B$2:$B$5001,MATCH($A7,'[1]4หลัก-เดือน'!$E$2:$E$5001,0)))/1000000 -> 96.550086
A8: 3 | B8: รถไถนา | C8: =INDEX('[1]4หลัก-เดือน'!$A$2:$A$5001,MATCH($A8,'[1]4หลัก-เดือน'!$E$2:$E$5001,0)) -> 8701 | D8: =(INDEX('[1]4หลัก-เดือน'!$D$2:$D$5001,MATCH($A8,'[1]4หลัก-เดือน'!$E$2:$E$5001,0)))/1000 -> 294.414 | E8: =(INDEX('[1]4หลัก-เดือน'!$B$2:$B$5001,MATCH($A8,'[1]4หลัก-เดือน'!$E$2:$E$5001,0)))/1000000 -> 66.005711
A9: 4 | B9: นมกล่องและเครื่องดื่มอื่นๆ | C9: =INDEX('[1]4หลัก-เดือน'!$A$2:$A$5001,MATCH($A9,'[1]4หลัก-เดือน'!$E$2:$E$5001,0)) -> 2202 | D9: =(INDEX('[1]4หลัก-เดือน'!$D$2:$D$5001,MATCH($A9,'[1]4หลัก-เดือน'!$E$2:$E$5001,0)))/1000 -> 1454.9893 | E9: =(INDEX('[1]4หลัก-เดือน'!$B$2:$B$5001,MATCH($A9,'[1]4หลัก-เดือน'!$E$2:$E$5001,0)))/1000000 -> 57.911829
A10: 5 | B10: รถยนต์ | C10: =INDEX('[1]4หลัก-เดือน'!$A$2:$A$5001,MATCH($A10,'[1]4หลัก-เดือน'!$E$2:$E$5001,0)) -> 8703 | D10: =(INDEX('[1]4หลัก-เดือน'!$D$2:$D$5001,MATCH($A10,'[1]4หลัก-เดือน'!$E$2:$E$5001,0)))/1000 -> 92.381 | E10: =(INDEX('[1]4หลัก-เดือน'!$B$2:$B$5001,MATCH($A10,'[1]4หลัก-เดือน'!$E$2:$E$5001,0)))/1000000 -> 50.905472
A11: 6 | B11: น้ำผลไม้ | C11: =INDEX('[1]4หลัก-เดือน'!$A$2:$A$5001,MATCH($A11,'[1]4หลัก-เดือน'!$E$2:$E$5001,0)) -> 2009 | D11: =(INDEX('[1]4หลัก-เดือน'!$D$2:$D$5001,MATCH($A11,'[1]4หลัก-เดือน'!$E$2:$E$5001,0)))/1000 -> 758.52112 | E11: =(INDEX('[1]4หลัก-เดือน'!$B$2:$B$5001,MATCH($A11,'[1]4หลัก-เดือน'!$E$2:$E$5001,0)))/1000000 -> 39.21339
A12: 7 | B12: รถบรรทุกวัตถุอันตราย(แอมโมเนียเหลว) | C12: =INDEX('[1]4หลัก-เดือน'!$A$2:$A$5001,MATCH($A12,'[1]4หลัก-เดือน'!$E$2:$E$5001,0)) -> 8704 | D12: =(INDEX('[1]4หลัก-เดือน'!$D$2:$D$5001,MATCH($A12,'[1]4หลัก-เดือน'!$E$2:$E$5001,0)))/1000 -> 42.11 | E12: =(INDEX('[1]4หลัก-เดือน'!$B$2:$B$5001,MATCH($A12,'[1]4หลัก-เดือน'!$E$2:$E$5001,0)))/1000000 -> 37.082686
A13: 8 | B13: ครีมเทียม | C13: =INDEX('[1]4หลัก-เดือน'!$A$2:$A$5001,MATCH($A13,'[1]4หลัก-เดือน'!$E$2:$E$5001,0)) -> 2106 | D13: =(INDEX('[1]4หลัก-เดือน'!$D$2:$D$5001,MATCH($A13,'[1]4หลัก-เดือน'!$E$2:$E$5001,0)))/1000 -> 541.70482 | E13: =(INDEX('[1]4หลัก-เดือน'!$B$2:$B$5001,MATCH($A13,'[1]4หลัก-เดือน'!$E$2:$E$5001,0)))/1000000 -> 33.129718
A14: 9 | B14: ซอสปรุงรส | C14: =INDEX('[1]4หลัก-เดือน'!$A$2:$A$5001,MATCH($A14,'[1]4หลัก-เดือน'!$E$2:$E$5001,0)) -> 2103 | D14: =(INDEX('[1]4หลัก-เดือน'!$D$2:$D$5001,MATCH($A14,'[1]4หลัก-เดือน'!$E$2:$E$5001,0)))/1000 -> 457.86482 | E14: =(INDEX('[1]4หลัก-เดือน'!$B$2:$B$5001,MATCH($A14,'[1]4หลัก-เดือน'!$E$2:$E$5001,0)))/1000000 -> 31.908919
A15: 10 | B15: ผงชูรส | C15: =INDEX('[1]4หลัก-เดือน'!$A$2:$A$5001,MATCH($A15,'[1]4หลัก-เดือน'!$E$2:$E$5001,0)) -> 2922 | D15: =(INDEX('[1]4หลัก-เดือน'!$D$2:$D$5001,MATCH($A15,'[1]4หลัก-เดือน'!$E$2:$E$5001,0)))/1000 -> 329.1818 | E15: =(INDEX('[1]4หลัก-เดือน'!$B$2:$B$5001,MATCH($A15,'[1]4หลัก-เดือน'!$E$2:$E$5001,0)))/1000000 -> 28.355008
B16: รวม | D16: =SUM(D6:D15) -> 25801.505 | E16: =SUM(E6:E15) -> 1024.2798
B17: อื่น ๆ | D17: =+D18-D16 -> 15923.805 | E17: =+E18-E16 -> 545.3702
B18: รวมทั้งหมด | D18: =ROUND((SUM('[1]CISขาออก-เดือน'!E2:E5001)/1000),2) -> 41725.31 | E18: =ROUND((SUM('[1]CISขาออก-เดือน'!C2:C5001)/1000000),2) -> 1569.65
B20: จำนวนใบขนสินค้าขาออก | C20: 1961 | D20: ฉบับ

Sheet ออก ตค- ธค.67
A1: ="ด่านศุลกากร"&[1]กรอกข้อมูล!B1 -> ด่านศุลกากรช่องเม็ก
A2: สินค้าส่งออกสูงสุด 10 อันดับ
A3: ="ปีงบประมาณ "&[1]กรอกข้อมูล!B2&" วันที่ "&[1]กรอกข้อมูล!B3&" "&[1]กรอกข้อมูล!C3&" "&[1]กรอกข้อมูล!D3&" ถึง "&[1]กรอกข้อมูล!B4&" "&[1]กรอกข้อมูล!C4&" "&[1]กรอกข้อมูล!D4 -> ปีงบประมาณ 2567 วันที่ 1 ตุลาคม 2567 ถึง 31 ธันวาคม 2567
B4: ="ปีงบประมาณ "&[1]กรอกข้อมูล!B2&" วันที่ "&[1]กรอกข้อมูล!B3&" "&[1]กรอกข้อมูล!C3&" "&[1]กรอกข้อมูล!D3&" ถึง "&[1]กรอกข้อมูล!B4&" "&[1]กรอกข้อมูล!C4&" "&[1]กรอกข้อมูล!D4 -> ปีงบประมาณ 2567 วันที่ 1 ตุลาคม 2567 ถึง 31 ธันวาคม 2567
A5: ลำดับที่ | B5: ชนิดสินค้า | C5: พิกัด | D5: น้ำหนัก (ตัน) | E5: มูลค่า (ล้านบาท)
A6: 1 | B6: น้ำมันเชื้อเพลิง (น้ำมันดีเชล,น้ำมันเบนซิน) | C6: =INDEX('[1]4หลัก-ปีงบ'!$A$2:$A$5001,MATCH($A6,'[1]4หลัก-ปีงบ'!$E$2:$E$5001,0)) -> 2710 | D6: =(INDEX('[1]4หลัก-ปีงบ'!$D$2:$D$5001,MATCH($A6,'[1]4หลัก-ปีงบ'!$E$2:$E$5001,0)))/1000 -> 49579.016 | E6: =(INDEX('[1]4หลัก-ปีงบ'!$B$2:$B$5001,MATCH($A6,'[1]4หลัก-ปีงบ'!$E$2:$E$5001,0)))/1000000 -> 1373.8859
A7: 2 | B7: พลาสติก(บรรจุภัณฑ์และของใช้จากพลาสติก) | C7: =INDEX('[1]4หลัก-ปีงบ'!$A$2:$A$5001,MATCH($A7,'[1]4หลัก-ปีงบ'!$E$2:$E$5001,0)) -> 3923 | D7: =(INDEX('[1]4หลัก-ปีงบ'!$D$2:$D$5001,MATCH($A7,'[1]4หลัก-ปีงบ'!$E$2:$E$5001,0)))/1000 -> 4470.9094 | E7: =(INDEX('[1]4หลัก-ปีงบ'!$B$2:$B$5001,MATCH($A7,'[1]4หลัก-ปีงบ'!$E$2:$E$5001,0)))/1000000 -> 290.29907
A8: 3 | B8: รถยนต์ | C8: =INDEX('[1]4หลัก-ปีงบ'!$A$2:$A$5001,MATCH($A8,'[1]4หลัก-ปีงบ'!$E$2:$E$5001,0)) -> 8703 | D8: =(INDEX('[1]4หลัก-ปีงบ'!$D$2:$D$5001,MATCH($A8,'[1]4หลัก-ปีงบ'!$E$2:$E$5001,0)))/1000 -> 437.308 | E8: =(INDEX('[1]4หลัก-ปีงบ'!$B$2:$B$5001,MATCH($A8,'[1]4หลัก-ปีงบ'!$E$2:$E$5001,0)))/1000000 -> 188.90198
A9: 4 | B9: รถไถนา | C9: =INDEX('[1]4หลัก-ปีงบ'!$A$2:$A$5001,MATCH($A9,'[1]4หลัก-ปีงบ'!$E$2:$E$5001,0)) -> 8701 | D9: =(INDEX('[1]4หลัก-ปีงบ'!$D$2:$D$5001,MATCH($A9,'[1]4หลัก-ปีงบ'!$E$2:$E$5001,0)))/1000 -> 782.89 | E9: =(INDEX('[1]4หลัก-ปีงบ'!$B$2:$B$5001,MATCH($A9,'[1]4หลัก-ปีงบ'!$E$2:$E$5001,0)))/1000000 -> 187.59599
A10: 5 | B10: นมกล่องและเครื่องดื่มอื่นๆ | C10: =INDEX('[1]4หลัก-ปีงบ'!$A$2:$A$5001,MATCH($A10,'[1]4หลัก-ปีงบ'!$E$2:$E$5001,0)) -> 2202 | D10: =(INDEX('[1]4หลัก-ปีงบ'!$D$2:$D$5001,MATCH($A10,'[1]4หลัก-ปีงบ'!$E$2:$E$5001,0)))/1000 -> 4004.7413 | E10: =(INDEX('[1]4หลัก-ปีงบ'!$B$2:$B$5001,MATCH($A10,'[1]4หลัก-ปีงบ'!$E$2:$E$5001,0)))/1000000 -> 145.0113
A11: 6 | B11: น้ำผลไม้ | C11: =INDEX('[1]4หลัก-ปีงบ'!$A$2:$A$5001,MATCH($A11,'[1]4หลัก-ปีงบ'!$E$2:$E$5001,0)) -> 2009 | D11: =(INDEX('[1]4หลัก-ปีงบ'!$D$2:$D$5001,MATCH($A11,'[1]4หลัก-ปีงบ'!$E$2:$E$5001,0)))/1000 -> 1945.5259 | E11: =(INDEX('[1]4หลัก-ปีงบ'!$B$2:$B$5001,MATCH($A11,'[1]4หลัก-ปีงบ'!$E$2:$E$5001,0)))/1000000 -> 120.4318
A12: 7 | B12: ครีมเทียม | C12: =INDEX('[1]4หลัก-ปีงบ'!$A$2:$A$5001,MATCH($A12,'[1]4หลัก-ปีงบ'!$E$2:$E$5001,0)) -> 2106 | D12: =(INDEX('[1]4หลัก-ปีงบ'!$D$2:$D$5001,MATCH($A12,'[1]4หลัก-ปีงบ'!$E$2:$E$5001,0)))/1000 -> 1440.3471 | E12: =(INDEX('[1]4หลัก-ปีงบ'!$B$2:$B$5001,MATCH($A12,'[1]4หลัก-ปีงบ'!$E$2:$E$5001,0)))/1000000 -> 91.46316
A13: 8 | B13: ผงชูรส | C13: =INDEX('[1]4หลัก-ปีงบ'!$A$2:$A$5001,MATCH($A13,'[1]4หลัก-ปีงบ'!$E$2:$E$5001,0)) -> 2922 | D13: =(INDEX('[1]4หลัก-ปีงบ'!$D$2:$D$5001,MATCH($A13,'[1]4หลัก-ปีงบ'!$E$2:$E$5001,0)))/1000 -> 962.775 | E13: =(INDEX('[1]4หลัก-ปีงบ'!$B$2:$B$5001,MATCH($A13,'[1]4หลัก-ปีงบ'!$E$2:$E$5001,0)))/1000000 -> 84.040968
A14: 9 | B14: ขนมอบกรอบ | C14: =INDEX('[1]4หลัก-ปีงบ'!$A$2:$A$5001,MATCH($A14,'[1]4หลัก-ปีงบ'!$E$2:$E$5001,0)) -> 1905 | D14: =(INDEX('[1]4หลัก-ปีงบ'!$D$2:$D$5001,MATCH($A14,'[1]4หลัก-ปีงบ'!$E$2:$E$5001,0)))/1000 -> 605.34989 | E14: =(INDEX('[1]4หลัก-ปีงบ'!$B$2:$B$5001,MATCH($A14,'[1]4หลัก-ปีงบ'!$E$2:$E$5001,0)))/1000000 -> 74.036794
A15: 10 | B15: ซอสปรุงรส | C15: =INDEX('[1]4หลัก-ปีงบ'!$A$2:$A$5001,MATCH($A15,'[1]4หลัก-ปีงบ'!$E$2:$E$5001,0)) -> 2103 | D15: =(INDEX('[1]4หลัก-ปีงบ'!$D$2:$D$5001,MATCH($A15,'[1]4หลัก-ปีงบ'!$E$2:$E$5001,0)))/1000 -> 1127.0932 | E15: =(INDEX('[1]4หลัก-ปีงบ'!$B$2:$B$5001,MATCH($A15,'[1]4หลัก-ปีงบ'!$E$2:$E$5001,0)))/1000000 -> 72.109355
B16: รวม | D16: =SUM(D6:D15) -> 65355.955 | E16: =SUM(E6:E15) -> 2627.7764
B17: อื่น ๆ | D17: =+D18-D16 -> 42218.445 | E17: =+E18-E16 -> 1598.5136
B18: รวมทั้งหมด | D18: =ROUND((SUM('[1]CISขาออก-ปีงบ'!E2:E5001)/1000),2) -> 107574.4 | E18: =ROUND((SUM('[1]CISขาออก-ปีงบ'!C2:C5001)/1000000),2) -> 4226.29
B20: จำนวนใบขนสินค้าขาออก | C20: 5309 | D20: ฉบับ

Sheet ขาเข้า ธค.67
A1: มูลค่าสินค้านำเข้าสูงสุด 10 อันดับ
A2: ประจำปีงบประมาณ 2568 (ธันวาคม 2567)
A3: ด่านศุลกากรช่องเม็ก
A4: ลำดับ | B4: พิกัด | C4: ชนิดสินค้า | D4: น้ำหนัก (กิโลกรัม) | E4: มูลค่าการนำเข้า (บาท) | F4: ภาษีมูลค่าเพิ่ม (บาท)
A5: 1 | B5: 27160000 | C5: พลังงานไฟฟ้า | D5: 3 | E5: 4.3564417e+08 | F5: 30495092
A6: 2 | B6: 7141011 | C6: มันสำปะหลัง (มันเส้น) | D6: 59512000 | E6: 3.4565656e+08 | F6: 0
A7: 3 | B7: 9011120 | C7: เมล็ดกาแฟดิบอะราบิก้า | D7: 1432000 | E7: 2.3437876e+08 | F7: 0
A8: 4 | B8: 7141099 | C8: มันสำปะหลัง (หัวมันสด) | D8: 28500000 | E8: 55018683 | F8: 0
A9: 5 | B9: 9011130 | C9: เมล็ดกาแฟดิบโรบัสต้า | D9: 205000 | E9: 28854189 | F9: 0
A10: 6 | B10: 85443014 | C10: ชุดสายไฟ | D10: 6294.24 | E10: 22549346 | F10: 303672.47
A11: 7 | B11: 7049010 | C11: กะหล่ำปลีชนิดกลม | D11: 1301800 | E11: 21130540 | F11: 0
A12: 8 | B12: 8039090 | C12: กล้วยดิบ | D12: 1842493 | E12: 19972642 | F12: 0
A13: 9 | B13: 08109094 | C13: เสาวรส | D13: 352140 | E13: 8840697.5 | F13: 0
A14: 10 | B14: 85444299 | C14: สายไฟ | D14: 2649.51 | E14: 3682147.8 | F14: 0
A15: รวม 10 อันดับ | D15: =SUM(D5:D14) -> 93154380 | E15: =SUM(E5:E14) -> 1.1757277e+09 | F15: =SUM(F5:F14) -> 30798764
A16: อื่น ๆ | D16: =D17-D15 -> 301150.22 | E16: =E17-E15 -> 12877651 | F16: =F17-F15 -> 352862.28
A17: รวมทั้งสิ้น | D17: 93455530 | E17: 1.1886054e+09 | F17: 31151626
A18: ข้อมูลตามวันที่ตรวจปล่อย ณ วันที่ 3 มกราคม 2568

Sheet เข้า ตค-ธค. 67
A1: มูลค่าสินค้านำเข้าสูงสุด 10 อันดับ
A2: ประจำปีงบประมาณ 2568 (ตุลาคม - ธันวาคม 2567)
A3: ด่านศุลกากรช่องเม็ก
A4: ลำดับ | B4: พิกัด | C4: ชนิดสินค้า | D4: น้ำหนัก (กิโลกรัม) | E4: มูลค่าการนำเข้า (บาท) | F4: ภาษีมูลค่าเพิ่ม (บาท)
A5: 1 | B5: 27160000 | C5: พลังงานไฟฟ้า | D5: 9 | E5: 1.6144928e+09 | F5: 1.1301449e+08
A6: 2 | B6: 7141011 | C6: มันสำปะหลัง (มันเส้น) | D6: 91272000 | E6: 5.2271729e+08 | F6: 0
A7: 3 | B7: 9011120 | C7: เมล็ดกาแฟดิบอะราบิก้า | D7: 2995000 | E7: 4.5803224e+08 | F7: 0
A8: 4 | B8: 7141099 | C8: มันสำปะหลัง (หัวมันสด) | D8: 52573000 | E8: 99822482 | F8: 0
A9: 5 | B9: 07049010 | C9: กะหล่ำปลีชนิดกลม | D9: 6075000 | E9: 95651929 | F9: 0
A10: 6 | B10: 08039090 | C10: กล้วยดิบ | D10: 7021512 | E10: 70170181 | F10: 0
A11: 7 | B11: 09011130 | C11: เมล็ดกาแฟดิบโรบัสต้า | D11: 672400 | E11: 64196797 | F11: 0
A12: 8 | B12: 85443014 | C12: ชุดสายไฟ | D12: 18942.9 | E12: 62616153 | F12: 1117572.4
A13: 9 | B13: 08109094 | C13: เสาวรส(ผลสด) | D13: 766830 | E13: 18864164 | F13: 0
A14: 10 | B14: 07142090 | C14: มันเทศ | D14: 865300 | E14: 13327259 | F14: 0
A15: รวม 10 อันดับ | D15: =SUM(D5:D14) -> 1.6225999e+08 | E15: =SUM(E5:E14) -> 3.0198913e+09 | F15: =SUM(F5:F14) -> 1.1413207e+08
A16: อื่น ๆ | D16: =D17-D15 -> 1158418.9 | E16: =E17-E15 -> 96515898 | F16: =F17-F15 -> 1789288.9
A17: รวมทั้งสิ้น | D17: 1.6341841e+08 | E17: 3.1164072e+09 | F17: 1.1592135e+08
A18: ข้อมูลตามวันที่ตรวจปล่อย ณ วันที่ 3 มกราคม 2568

Sheet ผค. 67
A1: ด่านศุลกากรช่องเม็ก
A2: มูลค่าสินค้าผ่านแดนสูงสุด 10 อันดับ
A3: ปีงบประมาณ พ.ศ. 2568 เดือนธันวาคม 2567
B4: ผ่านแดนเข้า | G4: ผ่านแดนออก
A5: ลำดับ | B5: มูลค่าสินค้าผ่านแดน จาก สปป.ลาว ไปประเทศที่สาม | F5: ลำดับ | G5: มูลค่าสินค้าผ่านแดน จาก ประเทศที่สามไป สปป.ลาว
A6: ที่ | B6: ชนิดสินค้า | C6: พิกัด | D6: น้ำหนัก (ตัน) | E6: มูลค่า (บาท) | F6: ที่ | G6: ชนิดสินค้า | H6: พิกัด | I6: น้ำหนัก (ตัน) | J6: มูลค่า (บาท)
A7: 1 | B7: เมล็ดกาแฟดิบ | C7: 0901 | D7: 82.983 | E7: 17048815 | F7: 1 | G7: บุหรี่ | H7: 2402 | I7: 78.2351 | J7: 33862374
A8: 2 | B8: อบเชย และสมุนไพรอบแห้งอื่นๆ | C8: 9061 | D8: 17.6013 | E8: 7630950.8 | F8: 2 | G8: สายไฟ | H8: 8544 | I8: 140.167 | J8: 14897274
A9: 3 | B9: รถดั้มพ์ พร้อมอุปกรณ์ | C9: 8704 | D9: 54.81 | E9: 3938915.2 | F9: 3 | G9: รถยนต์ใหม่ | H9: 8702, 8703 | I9: 23.585 | J9: 13432282
A10: 4 | B10: ชุดฟันดาบญี่ปุ่น | C10: 6211 | D10: 2.2863 | E10: 3838806.9 | F10: 4 | G10: มอลต์ | H10: 1107 | I10: 542.06 | J10: 10436449
A11: 5 | B11: ยาเส้นพร้อมปลอก | C11: 2401 | D11: 5.8712 | E11: 3660826.9 | F11: 5 | G11: เครื่องดื่มชูกำลัง | H11: 2202 | I11: 492.47232 | J11: 9356765.2
A12: 6 | B12: แป้งมันสําปะหลัง | C12: 1108 | D12: 90.25 | E12: 1856827.5 | F12: 6 | G12: เครื่องปรับอากาศ | H12: 8415 | I12: 40.43088 | J12: 5978558.8
A13: 7 | B13: ชิ้นส่วนเฟอร์นิเจอร์ไม้ดู่ | C13: 9403 | D13: 53.991 | E13: 696586.48 | F13: 7 | G13: ยางรถแทรกเตอร์และสินค้าอื่นๆ | H13: 4011 | I13: 152.9759 | J13: 5250099.1
F14: 8 | G14: รถตัก(ล้อยาง) | H14: 8429 | I14: 104.43 | J14: 4913375.6
F15: 9 | G15: โพลีเอทิลีนความหนาแน่นต่ำ | H15: 3901 | I15: 27.47 | J15: 3710596.8
F16: 10 | G16: เครื่องมือช่างต่างๆ เลื่อย,ฆ้อน,สว่าน,เครื่องเจาะ,เครื่องสำรองไฟ ฯลฯ | H16: 8205 | I16: 25.53777 | J16: 3493399
A17: รวมสินค้าผ่านแดนขาเข้า 10 อันดับ | D17: =SUM(D7:D16) -> 307.7928 | E17: =SUM(E7:E16) -> 38671729 | F17: รวมสินค้าผ่านแดนขาออก 10 อันดับ | I17: =SUM(I7:I16) -> 1627.364 | J17: =SUM(J7:J16) -> 1.0533117e+08
A18: อื่นๆ | D18: - | E18: - | F18: อื่นๆ | I18: 1185.986 | J18: 42682391
A19: รวมทั้งสิ้น | D19: =D17 -> 307.7928 | E19: =E17 -> 38671729 | F19: รวมทั้งสิ้น | I19: =SUM(I17:I18) -> 2813.3499 | J19: =SUM(J17:J18) -> 1.4801356e+08
A20: จำนวนใบขนผ่านแดนเข้า 10 ฉบับ จำนวนรถบรรทุก 20 คัน | F20: จำนวนใบขนผ่านแดนออก 85 ฉบับ จำนวนรถบรรทุก 165 คัน
A22: รวมสินค้าผ่านแดนขาเข้า 10 อันดับ | D22: 596.7847 | E22: 77910028 | F22: รวมสินค้าผ่านแดนขาออก 10 อันดับ | I22: 3266.5997 | J22: 2.4357657e+08
A23: อื่นๆ | D23: - | E23: - | F23: อื่นๆ | I23: 2859.5347 | J23: 88273968
A24: รวมทั้งสิ้น | D24: 596.7847 | E24: 77910028 | F24: รวมทั้งสิ้น | I24: 6126.1344 | J24: 3.3185054e+08
D26: =D19+D24 -> 904.5775 | E26: =E19+E24 -> 1.1658176e+08 | I26: =I24+I19 -> 8939.4843 | J26: =J24+J19 -> 4.798641e+08
A30: ด่านศุลกากรช่องเม็ก
A31: มูลค่าสินค้าผ่านแดนสูงสุด 10 อันดับ
A32: ปีงบประมาณ พ.ศ. 2568 เดือนตุลาคม-ธันวาคม 2567
B33: ผ่านแดนเข้า | G33: ผ่านแดนออก
A34: ลำดับ | B34: มูลค่าสินค้าผ่านแดน จาก สปป.ลาว ไปประเทศที่สาม | F34: ลำดับ | G34: มูลค่าสินค้าผ่านแดน จาก ประเทศที่สามไป สปป.ลาว
A35: ที่ | B35: ชนิดสินค้า | C35: พิกัด | D35: น้ำหนัก (ตัน) | E35: มูลค่า (บาท) | F35: ที่ | G35: ชนิดสินค้า | H35: พิกัด | I35: น้ำหนัก (ตัน) | J35: มูลค่า (บาท)
A36: 1 | B36: เมล็ดกาแฟดิบ | C36: 0901 | D36: 371.874 | E36: 68974142 | F36: 1 | G36: บุหรี่ | H36: 2402 | I36: 234.1601 | J36: 81960606
A37: 2 | B37: รถขุด | C37: 8429 | D37: 96.875 | E37: 9570300 | F37: 2 | G37: ส่วนประกอบของเครื่องกำเนิดไฟฟ้ากังหันลม | H37: 8502 | I37: 635.49 | J37: 54735152
A38: 3 | B38: อบเชย และสมุนไพรอบแห้งอื่นๆ | C38: 9061 | D38: 17.6013 | E38: 7630950.8 | F38: 3 | G38: ส่วนประกอบของเครื่องควบคุมเรกูเลเตอร์ | H38: 8410 | I38: 182.3038 | J38: 36003425
A39: 4 | B39: ชุดฟันดาบญี่ปุ่น | C39: 6211 | D39: 4.5782 | E39: 7210158.5 | F39: 4 | G39: รถตัก(ล้อยาง) | H39: 8429 | I39: 667.154 | J39: 26696966
A40: 5 | B40: รถปั๊มคอนกรีต | C40: 8705 | D40: 32.5 | E40: 5843804.6 | F40: 5 | G40: มอลต์ | H40: 1107 | I40: 1562.366 | J40: 24982002
A41: 6 | B41: ยาเส้นพร้อมปลอก | C41: 2401 | D41: 8.2308 | E41: 5274732.1 | F41: 6 | G41: ยางรถแทรกเตอร์และสินค้าอื่นๆ | H41: 4011 | I41: 582.986 | J41: 22431519
A42: 7 | B42: รถดั้มพ์ พร้อมอุปกรณ์ | C42: 8704 | D42: 54.81 | E42: 3938915.2 | F42: 7 | G42: ระบบทำความเย็น | H42: 8418 | I42: 123.348 | J42: 20944220
A43: 8 | B43: แป้งมันสําปะหลัง | C43: 1108 | D43: 180.5 | E43: 3633247.5 | F43: 8 | G43: เครื่องมือช่าง | H43: 8205 | I43: 109.81694 | J43: 18086539
A44: 9 | B44: ผักอบแห้ง | C44: 7122 | D44: 11.5312 | E44: 2315441.7 | F44: 9 | G44: สายไฟ | H44: 8544 | I44: 140.167 | J44: 14897274
A45: 10 | B45: ข้าวเหนียว 5% | C45: 10063030 | D45: 47.1 | E45: 1394448 | F45: 10 | G45: รถยนต์ใหม่ | H45: 8702, 8703 | I45: 23.585 | J45: 13432282
...
